BEGIN:VCALENDAR
PRODID:NingEventWidget-v1
VERSION:2.0
METHOD:PUBLISH
BEGIN:VTIMEZONE
TZID:Pacific/Midway
X-LIC-LOCATION:Pacific/Midway
BEGIN:STANDARD
TZOFFSETFROM:-1100
TZOFFSETTO:-1100
TZNAME:SST
DTSTART:19700101T000000
END:STANDARD
END:VTIMEZONE
BEGIN:VEVENT
UID:5072275:Event:844282
DTSTAMP:20260425T003510Z
SUMMARY:Blue Ridge Motorcycle Swap Meet and Garage Sale -Hickory, NC
DESCRIPTION:The Blue Ridge Motorcycle Swap Meet and Garage Sale will b
 e held at Blue Ridge Harley Davidson in Hickory, North Carolina on Dec
 ember 20th, 2014.Location:-Blue Ridge Harley Davidson in Hickory, Nort
 h Carolina(2002 13th Avenue Drive SE, Hickory, NC 28602)Come reserve y
 our spot for only $10! Come sell your stuff or find the parts you need
 ! Please Contact For More Information:-(828) 327-3030We hope to see y
 ou there!\n\nFor more information visit https://www.southeastwheelseve
 nts.com/events/blue-ridge-motorcycle-swap-meet-and-garage-sale-hickory
 -nc
DTSTART;TZID=Pacific/Midway:20141220T000000
DTEND;TZID=Pacific/Midway:20141220T235900
CATEGORIES:swap, meet, and, garage, sale
LOCATION:Blue Ridge Harley Davidson
WEBSITE:http://www.blueridgehd.com
URL:http://www.blueridgehd.com
CONTACT:828-327-3030
ORGANIZER:Blue Ridge Harley Davidson
ATTACH;FMTTYPE="image/jpeg":http://storage.ning.com/topology/rest/1.0/
 file/get/967669436?profile=original
ATTENDEE;ROLE=REQ-PARTICIPANT;PARTSTAT=ACCEPTED;RSVP=TRUE;CN="Chuck Aa
 ron":https://www.southeastwheelsevents.com/profile/ChuckAaron
END:VEVENT
END:VCALENDAR
