BEGIN:VCALENDAR
PRODID:NingEventWidget-v1
VERSION:2.0
METHOD:PUBLISH
BEGIN:VTIMEZONE
TZID:Pacific/Midway
X-LIC-LOCATION:Pacific/Midway
BEGIN:STANDARD
TZOFFSETFROM:-1100
TZOFFSETTO:-1100
TZNAME:SST
DTSTART:19700101T000000
END:STANDARD
END:VTIMEZONE
BEGIN:VEVENT
UID:5072275:Event:601424
DTSTAMP:20260420T072002Z
SUMMARY:BOB'S HOME COOKING BUFFET EVERY THURSDAY CRUISE-IN -Duluth, GA
DESCRIPTION:Open to all New & Old Vehicles    \nOnly $7.50 for all
  you can eat.\nAll cruise cars get free drink with paid meal.\n \nCOM
 E AND ENJOY THE FOOD AND HANG OUT WITH YOUR FRIENDS AND HAVE GOOD TI
 ME\nSEE MAP FOR DIRECTIONS\n\nFor more information visit https://www.s
 outheastwheelsevents.com/events/bob-s-home-cooking-buffet-free-cruise-
 ni
DTSTART;TZID=Pacific/Midway:20121220T170000
DTEND;TZID=Pacific/Midway:20121220T200000
CATEGORIES:cruise-in
LOCATION:Bob,s Home Cooking Buffet
WEBSITE:http://goo.gl/maps/ZO4Ln
URL:http://goo.gl/maps/ZO4Ln
CONTACT:770-497-9677
ORGANIZER:Bob's Home Cooking
ATTACH;FMTTYPE="image/jpeg":http://storage.ning.com/topology/rest/1.0/
 file/get/967630488?profile=original
ATTENDEE;ROLE=REQ-PARTICIPANT;PARTSTAT=ACCEPTED;RSVP=TRUE;CN="Richard 
 Scott":https://www.southeastwheelsevents.com/profile/RichardScott
ATTENDEE;ROLE=REQ-PARTICIPANT;PARTSTAT=ACCEPTED;RSVP=TRUE;CN="johnny n
 owon":https://www.southeastwheelsevents.com/profile/johnnynowon
ATTENDEE;ROLE=REQ-PARTICIPANT;PARTSTAT=ACCEPTED;RSVP=TRUE;CN="Glenn Ha
 rper":https://www.southeastwheelsevents.com/profile/GlennHarper
ATTENDEE;ROLE=REQ-PARTICIPANT;PARTSTAT=TENTATIVE;RSVP=TRUE;CN=David:ht
 tps://www.southeastwheelsevents.com/profile/David858
ATTENDEE;ROLE=REQ-PARTICIPANT;PARTSTAT=TENTATIVE;RSVP=TRUE;CN="Stacy F
 ranklin":https://www.southeastwheelsevents.com/profile/StacyFranklin
ATTENDEE;ROLE=REQ-PARTICIPANT;PARTSTAT=TENTATIVE;RSVP=TRUE;CN="Jerry J
 ones":https://www.southeastwheelsevents.com/profile/JerryJOnes
ATTENDEE;ROLE=REQ-PARTICIPANT;PARTSTAT=TENTATIVE;RSVP=TRUE;CN="T. Bowe
 rs":https://www.southeastwheelsevents.com/profile/TimBowers
ATTENDEE;ROLE=REQ-PARTICIPANT;PARTSTAT=TENTATIVE;RSVP=TRUE;CN="bob eic
 helberger":https://www.southeastwheelsevents.com/profile/bobeichelberg
 er
ATTENDEE;ROLE=REQ-PARTICIPANT;PARTSTAT=TENTATIVE;RSVP=TRUE;CN="Jeff Ru
 therford":https://www.southeastwheelsevents.com/profile/JeffreyRutherf
 ord
END:VEVENT
END:VCALENDAR
