BEGIN:VCALENDAR
PRODID:NingEventWidget-v1
VERSION:2.0
METHOD:PUBLISH
BEGIN:VTIMEZONE
TZID:Pacific/Midway
X-LIC-LOCATION:Pacific/Midway
BEGIN:STANDARD
TZOFFSETFROM:-1100
TZOFFSETTO:-1100
TZNAME:SST
DTSTART:19700101T000000
END:STANDARD
END:VTIMEZONE
BEGIN:VEVENT
UID:5072275:Event:1273503
DTSTAMP:20260419T153943Z
SUMMARY:Bobby Brown Catfish Classic Elberton Georgia
DESCRIPTION:Bobby Brown Catfish Classic,   May 9th 10 AM till 2 PM 
  followed at 7 pm, Scarlett Stitch will bring a unique blend of rock, 
 Southern rock,  All proceeds from this event will benefit the Elbert 
 County Dive Team.     \n\n\n\n\n\n\n\n\nFor more information visit 
 https://www.southeastwheelsevents.com/events/bobby-brown-catfish-class
 ic-elberton-georgia
DTSTART;TZID=Pacific/Midway:20260509T100000
DTEND;TZID=Pacific/Midway:20260509T140000
CATEGORIES:car, show, fundraiser
LOCATION:Bobby Brown Park, Elberton Georgia
WEBSITE:https://www.facebook.com/share/p/1B8LSxZRFa/
URL:https://www.facebook.com/share/p/1B8LSxZRFa/
CONTACT:706 805 5761
ORGANIZER:Jonathan Burnette
ATTACH;FMTTYPE="image/jpeg":https://storage.ning.com/topology/rest/1.0
 /file/get/31095195465?profile=original
ATTENDEE;ROLE=REQ-PARTICIPANT;PARTSTAT=ACCEPTED;RSVP=TRUE;CN="Richard 
 Peek":https://www.southeastwheelsevents.com/profile/RichardPeek
END:VEVENT
END:VCALENDAR
