BEGIN:VCALENDAR
PRODID:NingEventWidget-v1
VERSION:2.0
METHOD:PUBLISH
BEGIN:VTIMEZONE
TZID:Pacific/Midway
X-LIC-LOCATION:Pacific/Midway
BEGIN:STANDARD
TZOFFSETFROM:-1100
TZOFFSETTO:-1100
TZNAME:SST
DTSTART:19700101T000000
END:STANDARD
END:VTIMEZONE
BEGIN:VEVENT
UID:5072275:Event:98252
DTSTAMP:20260421T170304Z
SUMMARY:BOO FEST CAR SHOW -Lancaster, NC
DESCRIPTION:BOO FEST CAR SHOW\n10-30-10 TIME 500PM TO 800PM\nCatawba S
 t and Gay St\nDowntown Lancaster SC 29720\nKOSSTOME TROPHIES FOR\nCAR 
 SHOW, GLOW OFF, SOUND OFF\n$20.00 ENTRY FEE GETS YOU INTO ALL EVENTS\n
 2 FOOT = BEST HALLOWEEN THEME\n2 FOOT = LOUDEST STEREO OVER ALL!\n2 FO
 OT = LOUDEST EXHAUST OVER ALL\n2 FOOT = GLOW OFF\nMore Info: www.kossm
 otorsports.com or call Steve 803-320-3193\nTHIS IS FOR THE KIDS OF ALL
  AGE\nKIDS TRICK OR TREATING, KIDS ZONE\nMUSIC, GAMES, FOO! D,\nSOMETH
 ING FOR THE KIDS.\nBRING CANDY TO GIVE TO THE KIDS TRICK OR TREATING. 
 WE DON'T WANT ANY TRICKS HAPPNING\n\nContact Information\nKoss MotorSp
 orts 376 Lancaster By-Pass East LANCASTER, SC 29720 803-320-3193 smkos
 s@comporium.net\n\nFor more information visit https://www.southeastwhe
 elsevents.com/events/boo-fest-car-show-lancaster-nc
DTSTART;TZID=Pacific/Midway:20101030T170000
DTEND;TZID=Pacific/Midway:20101030T200000
CATEGORIES:car-show
LOCATION:Downtown
WEBSITE:http://smkoss@comporium.net
URL:http://smkoss@comporium.net
CONTACT:803-320-3193
ORGANIZER:Steve Koss
ATTACH;FMTTYPE="image/jpeg":
ATTENDEE;ROLE=REQ-PARTICIPANT;PARTSTAT=ACCEPTED;RSVP=TRUE;CN="Michael 
 Thies":https://www.southeastwheelsevents.com/profile/MichaelThies
END:VEVENT
END:VCALENDAR
