BEGIN:VCALENDAR
PRODID:NingEventWidget-v1
VERSION:2.0
METHOD:PUBLISH
BEGIN:VTIMEZONE
TZID:Pacific/Midway
X-LIC-LOCATION:Pacific/Midway
BEGIN:STANDARD
TZOFFSETFROM:-1100
TZOFFSETTO:-1100
TZNAME:SST
DTSTART:19700101T000000
END:STANDARD
END:VTIMEZONE
BEGIN:VEVENT
UID:5072275:Event:694167
DTSTAMP:20260421T114047Z
SUMMARY:Booby Poker Run and Chili Cook Off -Conyers, GA
DESCRIPTION:Booby Poker Run and Chili Cook Off\n\n\n\nDATE\nOctober 26
 , 2013\n\nDIRECTIONS\n900 Dogwood Drive, Conyers, Georgia 30013\n\nCIT
 Y / STATE\nConyers, Georgia (GA)\n\nDESCRIPTION\nThe Booby Poker Run a
 nd Chili Cook Off will be held at Stone Mountain Harley Davidson in Co
 nyers, Georgia on October 26th, 2013.\nLocation:900 Dogwood Drive, Con
 yers, G in Conyers, Georgia(900 Dogwood Drive, Conyers, Georgia 30013
 )\nCheck back on the website listed below for more details as they bec
 ome available.\nPlease Contact For More Information:-(770) 979-7999\nW
 e hope to see you there!\nFor more information about this event, Pleas
 e see below.\n\n\nWEBSITE\nhttp://www.stonemountainhd.com/\n\nPHONE\n7
 70-979-7999\n\n\n\n\nFor more information visit https://www.southeastw
 heelsevents.com/events/booby-poker-run-and-chili-cook-off-conyers-ga
DTSTART;TZID=Pacific/Midway:20131026T000000
DTEND;TZID=Pacific/Midway:20131026T235900
CATEGORIES:motorcycle, event, ride, poker, run, cook, off
LOCATION:Stone Mountain Harley Davidson
WEBSITE:http://www.stonemountainhd.com/ PHONE	770-979-7999
URL:http://www.stonemountainhd.com/ PHONE	770-979-7999
CONTACT:770-979-7999
ORGANIZER:Stone Mountain Harley Davidson
ATTACH;FMTTYPE="image/jpeg":http://storage.ning.com/topology/rest/1.0/
 file/get/967647435?profile=original
ATTENDEE;ROLE=REQ-PARTICIPANT;PARTSTAT=ACCEPTED;RSVP=TRUE;CN="Jack Tho
 mas":https://www.southeastwheelsevents.com/profile/JackThomas
END:VEVENT
END:VCALENDAR
