BEGIN:VCALENDAR
PRODID:NingEventWidget-v1
VERSION:2.0
METHOD:PUBLISH
BEGIN:VTIMEZONE
TZID:Pacific/Midway
X-LIC-LOCATION:Pacific/Midway
BEGIN:STANDARD
TZOFFSETFROM:-1100
TZOFFSETTO:-1100
TZNAME:SST
DTSTART:19700101T000000
END:STANDARD
END:VTIMEZONE
BEGIN:VEVENT
UID:5072275:Event:1043283
DTSTAMP:20260423T171157Z
SUMMARY:Bounty Bracket Series #6
DESCRIPTION:Super Pro, Pro, Sportsman, Junior Dragsters, Sto+E16ck\n\n
 For more information visit https://www.southeastwheelsevents.com/event
 s/bounty-bracket-series-6
DTSTART;TZID=Pacific/Midway:20170624T000000
DTEND;TZID=Pacific/Midway:20170624T235900
CATEGORIES:race
LOCATION:Union County Dragway
WEBSITE:http://www.unioncountyscdragway.com/
URL:http://www.unioncountyscdragway.com/
CONTACT:
ORGANIZER:
ATTACH;FMTTYPE="image/jpeg":http://storage.ning.com/topology/rest/1.0/
 file/get/967743811?profile=original
ATTENDEE;ROLE=REQ-PARTICIPANT;PARTSTAT=ACCEPTED;RSVP=TRUE;CN="Christop
 her Gosney":https://www.southeastwheelsevents.com/profile/ChristopherG
 osney
END:VEVENT
END:VCALENDAR
