BEGIN:VCALENDAR
PRODID:NingEventWidget-v1
VERSION:2.0
METHOD:PUBLISH
BEGIN:VTIMEZONE
TZID:Pacific/Midway
X-LIC-LOCATION:Pacific/Midway
BEGIN:STANDARD
TZOFFSETFROM:-1100
TZOFFSETTO:-1100
TZNAME:SST
DTSTART:19700101T000000
END:STANDARD
END:VTIMEZONE
BEGIN:VEVENT
UID:5072275:Event:1229833
DTSTAMP:20260422T081457Z
SUMMARY:Boy's and Girls's Club Car & Bike Show -Jefferson, GA
DESCRIPTION:\n\nFor more information visit https://www.southeastwheels
 events.com/events/boy-s-and-girls-s-club-car-bike-show-jefferson-ga
DTSTART;TZID=Pacific/Midway:20221015T100000
DTEND;TZID=Pacific/Midway:20221015T140000
CATEGORIES:car, show, benefit
LOCATION:Boys &amp; Girls Clubs of Jackson County
WEBSITE:http://www.bgcjcga.org/car-bike-show.html
URL:http://www.bgcjcga.org/car-bike-show.html
CONTACT:( 706 ) 367 8553
ORGANIZER:Boy's and Girl's Club
ATTACH;FMTTYPE="image/jpeg":https://storage.ning.com/topology/rest/1.0
 /file/get/9726130885?profile=original
ATTENDEE;ROLE=REQ-PARTICIPANT;PARTSTAT=ACCEPTED;RSVP=TRUE;CN="Chuck Aa
 ron":https://www.southeastwheelsevents.com/profile/ChuckAaron886
END:VEVENT
END:VCALENDAR
