BEGIN:VCALENDAR
PRODID:NingEventWidget-v1
VERSION:2.0
METHOD:PUBLISH
BEGIN:VTIMEZONE
TZID:Pacific/Midway
X-LIC-LOCATION:Pacific/Midway
BEGIN:STANDARD
TZOFFSETFROM:-1100
TZOFFSETTO:-1100
TZNAME:SST
DTSTART:19700101T000000
END:STANDARD
END:VTIMEZONE
BEGIN:VEVENT
UID:5072275:Event:1233318
DTSTAMP:20260422T081031Z
SUMMARY:Boys and Girls Clubs Car and Bike Show -Jefferson, GS
DESCRIPTION:h   Come one come all to best Car & Bike Show in Town.\r
 \nFood, Prizes, we will have the 50/50 rife and trophies will be given
  away to first, second & third place. So clean them up and bring them 
 out  \n\nFor more information visit https://www.southeastwheelsevent
 s.com/events/boys-amp-girls-clubs-car-amp-bike-show
DTSTART;TZID=Pacific/Midway:20221015T100000
DTEND;TZID=Pacific/Midway:20221015T140000
CATEGORIES:car, bike, show
LOCATION:Boys and Girls Club of Jackson County Jim Moran Memorial Club
WEBSITE:http://bgcjcga.org
URL:http://bgcjcga.org
CONTACT:706-367-8553
ORGANIZER;CN="Jeffrey Daniels":https://www.southeastwheelsevents.com/p
 rofile/JeffreyDaniels765
ATTACH;FMTTYPE="image/jpeg":https://storage.ning.com/topology/rest/1.0
 /file/get/10229711269?profile=original
ATTENDEE;ROLE=REQ-PARTICIPANT;PARTSTAT=ACCEPTED;RSVP=TRUE;CN="Jeffrey 
 Daniels":https://www.southeastwheelsevents.com/profile/JeffreyDaniels7
 65
END:VEVENT
END:VCALENDAR
