BEGIN:VCALENDAR
PRODID:NingEventWidget-v1
VERSION:2.0
METHOD:PUBLISH
BEGIN:VTIMEZONE
TZID:Pacific/Midway
X-LIC-LOCATION:Pacific/Midway
BEGIN:STANDARD
TZOFFSETFROM:-1100
TZOFFSETTO:-1100
TZNAME:SST
DTSTART:19700101T000000
END:STANDARD
END:VTIMEZONE
BEGIN:VEVENT
UID:5072275:Event:1241508
DTSTAMP:20260423T062325Z
SUMMARY:Brantley County Christmas Car Show -Nahunta, GA
DESCRIPTION:Brantley County Christmas Car Show -Nahunta, GA\n\nFor mor
 e information visit https://www.southeastwheelsevents.com/events/brant
 ley-county-christmas-car-show-nahunta-ga
DTSTART;TZID=Pacific/Midway:20251206T090000
DTEND;TZID=Pacific/Midway:20251206T123000
CATEGORIES:christmas, festival, car, show
LOCATION:117 Brantley Street
WEBSITE:
URL:
CONTACT:Mike 912-882-4046
ORGANIZER:Brantley County
ATTACH;FMTTYPE="image/jpeg":https://storage.ning.com/topology/rest/1.0
 /file/get/10894904664?profile=original
ATTENDEE;ROLE=REQ-PARTICIPANT;PARTSTAT=ACCEPTED;RSVP=TRUE;CN="Chuck Aa
 ron":https://www.southeastwheelsevents.com/profile/ChuckAaron886
END:VEVENT
END:VCALENDAR
