BEGIN:VCALENDAR
PRODID:NingEventWidget-v1
VERSION:2.0
METHOD:PUBLISH
BEGIN:VTIMEZONE
TZID:Pacific/Midway
X-LIC-LOCATION:Pacific/Midway
BEGIN:STANDARD
TZOFFSETFROM:-1100
TZOFFSETTO:-1100
TZNAME:SST
DTSTART:19700101T000000
END:STANDARD
END:VTIMEZONE
BEGIN:VEVENT
UID:5072275:Event:928333
DTSTAMP:20260425T123558Z
SUMMARY:Braselton Bash -Braselton, GA
DESCRIPTION:Year One,  Braselton Bash  10AM till you can't stand it 
 any longer\r\nLocation: YEARONE, 1001 Cherry Drive Ste 1, Braselton GA
  30517\r\n   \n\nFor more information visit https://www.southeastwheel
 sevents.com/events/braselton-bash-2
DTSTART;TZID=Pacific/Midway:20220820T100000
DTEND;TZID=Pacific/Midway:20220820T150000
CATEGORIES:car, show, charity, event
LOCATION:Tech Center Yearone
WEBSITE:https://www.yearone.com/
URL:https://www.yearone.com/
CONTACT:800-932-7663
ORGANIZER:YearOne Inc.
ATTACH;FMTTYPE="image/jpeg":http://storage.ning.com/topology/rest/1.0/
 file/get/967696019?profile=original
ATTENDEE;ROLE=REQ-PARTICIPANT;PARTSTAT=ACCEPTED;RSVP=TRUE;CN="Michael 
 Thies":https://www.southeastwheelsevents.com/profile/MichaelThies
ATTENDEE;ROLE=REQ-PARTICIPANT;PARTSTAT=ACCEPTED;RSVP=TRUE;CN="Brent Wa
 lter":https://www.southeastwheelsevents.com/profile/BrentWalter
ATTENDEE;ROLE=REQ-PARTICIPANT;PARTSTAT=TENTATIVE;RSVP=TRUE;CN="Derik P
 age":https://www.southeastwheelsevents.com/profile/DerikPage
ATTENDEE;ROLE=REQ-PARTICIPANT;PARTSTAT=TENTATIVE;RSVP=TRUE;CN="Terry B
 uhite":https://www.southeastwheelsevents.com/profile/TerryBuhite
ATTENDEE;ROLE=REQ-PARTICIPANT;PARTSTAT=TENTATIVE;RSVP=TRUE;CN="Jerry J
 ones":https://www.southeastwheelsevents.com/profile/JerryJOnes
ATTENDEE;ROLE=REQ-PARTICIPANT;PARTSTAT=TENTATIVE;RSVP=TRUE;CN="Bill mu
 sarra":https://www.southeastwheelsevents.com/profile/billmusarra
END:VEVENT
END:VCALENDAR
