BEGIN:VCALENDAR
PRODID:NingEventWidget-v1
VERSION:2.0
METHOD:PUBLISH
BEGIN:VTIMEZONE
TZID:Pacific/Midway
X-LIC-LOCATION:Pacific/Midway
BEGIN:STANDARD
TZOFFSETFROM:-1100
TZOFFSETTO:-1100
TZNAME:SST
DTSTART:19700101T000000
END:STANDARD
END:VTIMEZONE
BEGIN:VEVENT
UID:5072275:Event:468116
DTSTAMP:20260423T060706Z
SUMMARY:Breakfast Cruise In / Swap Meet - Interlachen,  FL
DESCRIPTION:Breakfast Cruise In and Automotive Swap Meet.  Every 3rd 
 Sunday 8:00 AM—1:00 PM.  Fraternal Order of Eagles  # 3822.\n829 H
 wy 20 Interlachen, FL. Car corral $5.00   Vendors $10.00  Spectator
 s FREE  386-328-4904\n\nFor more information visit https://www.southe
 astwheelsevents.com/events/breakfast-cruise-in-swap-meet-5
DTSTART;TZID=Pacific/Midway:20120617T080000
DTEND;TZID=Pacific/Midway:20120617T130000
CATEGORIES:swap, meet, "/", cruise, in
LOCATION:Eagles Club
WEBSITE:http://www.azaleacitycruisers.com
URL:http://www.azaleacitycruisers.com
CONTACT:386--328-4904
ORGANIZER;CN="Charles Wellborn":https://www.southeastwheelsevents.com/
 profile/CharlesWellborn
ATTACH;FMTTYPE="image/jpeg":
ATTENDEE;ROLE=REQ-PARTICIPANT;PARTSTAT=ACCEPTED;RSVP=TRUE;CN="Charles 
 Wellborn":https://www.southeastwheelsevents.com/profile/CharlesWellbor
 n
END:VEVENT
END:VCALENDAR
