BEGIN:VCALENDAR
PRODID:NingEventWidget-v1
VERSION:2.0
METHOD:PUBLISH
BEGIN:VTIMEZONE
TZID:Pacific/Midway
X-LIC-LOCATION:Pacific/Midway
BEGIN:STANDARD
TZOFFSETFROM:-1100
TZOFFSETTO:-1100
TZNAME:SST
DTSTART:19700101T000000
END:STANDARD
END:VTIMEZONE
BEGIN:VEVENT
UID:5072275:Event:750554
DTSTAMP:20260419T065611Z
SUMMARY:British Car Show sponsered by Peachtree MG Registry -Dillard,G
 A
DESCRIPTION:\nThis is a southeastern British show and also a NAMGBR & 
 NAMGAR regional show. All British marques, cars and bikes are welcome.
  September 20th in Dillard, Georgia at The Dillard House.\n\nFor more 
 information visit https://www.southeastwheelsevents.com/events/british
 -car-show-sponsered-by-peachtree-mg-registry
DTSTART;TZID=Pacific/Midway:20140918T000000
DTEND;TZID=Pacific/Midway:20140921T235900
CATEGORIES:all, british, car, show
LOCATION:The Dillard House
WEBSITE:http://www.peachtreemg.com
URL:http://www.peachtreemg.com
CONTACT:404-386-1151
ORGANIZER;CN="Larry Norton":https://www.southeastwheelsevents.com/prof
 ile/LarryNorton
ATTACH;FMTTYPE="image/jpeg":http://storage.ning.com/topology/rest/1.0/
 file/get/967655128?profile=original
ATTENDEE;ROLE=REQ-PARTICIPANT;PARTSTAT=ACCEPTED;RSVP=TRUE;CN="Chuck Aa
 ron":https://www.southeastwheelsevents.com/profile/ChuckAaron
ATTENDEE;ROLE=REQ-PARTICIPANT;PARTSTAT=ACCEPTED;RSVP=TRUE;CN="Larry No
 rton":https://www.southeastwheelsevents.com/profile/LarryNorton
ATTENDEE;ROLE=REQ-PARTICIPANT;PARTSTAT=TENTATIVE;RSVP=TRUE;CN="Bill mu
 sarra":https://www.southeastwheelsevents.com/profile/billmusarra
END:VEVENT
END:VCALENDAR
