BEGIN:VCALENDAR
PRODID:NingEventWidget-v1
VERSION:2.0
METHOD:PUBLISH
BEGIN:VTIMEZONE
TZID:Pacific/Midway
X-LIC-LOCATION:Pacific/Midway
BEGIN:STANDARD
TZOFFSETFROM:-1100
TZOFFSETTO:-1100
TZNAME:SST
DTSTART:19700101T000000
END:STANDARD
END:VTIMEZONE
BEGIN:VEVENT
UID:5072275:Event:1176905
DTSTAMP:20260424T002721Z
SUMMARY:Brookhaven Arts Festival rolling art
DESCRIPTION:This is a community festival with 100 art vendors, live lo
 cal music, food and beverages of all types. The car show \"rolling Art
 \" will be held on Sunday 10/20/2019 in the rear parking lot of the Br
 ookhaven Marta station!  the Brookhaven Marta parking lot is between 
 Dresden Drive and North Druid Hills RD. Look for the car show signs. 
  \n\nFor more information visit https://www.southeastwheelsevents.com
 /events/brookhaven-arts-festival-rolling-art
DTSTART;TZID=Pacific/Midway:20191020T130000
DTEND;TZID=Pacific/Midway:20191020T160000
CATEGORIES:community, arts, festival
LOCATION:Rear Parking lot of the Brookhaven Marta station
WEBSITE:http://www.c5carshows.cpm
URL:http://www.c5carshows.cpm
CONTACT:770457-0209
ORGANIZER:Faron Stephens and Greg Barner
ATTACH;FMTTYPE="image/jpeg":https://storage.ning.com/topology/rest/1.0
 /file/get/3541163608?profile=original
ATTENDEE;ROLE=REQ-PARTICIPANT;PARTSTAT=ACCEPTED;RSVP=TRUE;CN="Faron St
 ephens":https://www.southeastwheelsevents.com/profile/FaronStephens
END:VEVENT
END:VCALENDAR
