BEGIN:VCALENDAR
PRODID:NingEventWidget-v1
VERSION:2.0
METHOD:PUBLISH
BEGIN:VTIMEZONE
TZID:Pacific/Midway
X-LIC-LOCATION:Pacific/Midway
BEGIN:STANDARD
TZOFFSETFROM:-1100
TZOFFSETTO:-1100
TZNAME:SST
DTSTART:19700101T000000
END:STANDARD
END:VTIMEZONE
BEGIN:VEVENT
UID:5072275:Event:1180192
DTSTAMP:20260424T013051Z
SUMMARY:Brooks Lazenby Memorial Car Show - Prattville, Al
DESCRIPTION:Brooks Lazen by Memorial Car Show     01   Larry  
   Puckett     Chevrolet,  2101 Cobbs  Ford   Road.\n\nFor mor
 e information visit https://www.southeastwheelsevents.com/events/brook
 s-lazenby-memorial-car-show-prattville-al-1
DTSTART;TZID=Pacific/Midway:20191116T090000
DTEND;TZID=Pacific/Midway:20191116T140000
CATEGORIES:car, show, cruise-in
LOCATION:Larry Puckett Chevrolet,
WEBSITE:https://www.google.com/maps/place/Larry+Puckett+Chevrolet/@32.
 4607977,-86.4130862,17z/data=!3m1!4b1!4m5!3m4!1s0x888e8561a8a09b3d:0x6
 6cad3e88caabd3e!8m2!3d32.4607932!4d-86.4108975
URL:https://www.google.com/maps/place/Larry+Puckett+Chevrolet/@32.4607
 977,-86.4130862,17z/data=!3m1!4b1!4m5!3m4!1s0x888e8561a8a09b3d:0x66cad
 3e88caabd3e!8m2!3d32.4607932!4d-86.4108975
CONTACT:(334)-558-7719
ORGANIZER:
ATTACH;FMTTYPE="image/jpeg":https://storage.ning.com/topology/rest/1.0
 /file/get/2631759780?profile=original
ATTENDEE;ROLE=REQ-PARTICIPANT;PARTSTAT=ACCEPTED;RSVP=TRUE;CN="Anthony 
 Hopkins":https://www.southeastwheelsevents.com/profile/AnthonyHopkins
END:VEVENT
END:VCALENDAR
