BEGIN:VCALENDAR
PRODID:NingEventWidget-v1
VERSION:2.0
METHOD:PUBLISH
BEGIN:VTIMEZONE
TZID:Pacific/Midway
X-LIC-LOCATION:Pacific/Midway
BEGIN:STANDARD
TZOFFSETFROM:-1100
TZOFFSETTO:-1100
TZNAME:SST
DTSTART:19700101T000000
END:STANDARD
END:VTIMEZONE
BEGIN:VEVENT
UID:5072275:Event:1111023
DTSTAMP:20260424T024951Z
SUMMARY:Brooks Lazenby Memorial Car Show - Prattville, Al
DESCRIPTION:Brooks Lazenby Memorial Car Show at Larry Puckett Chevrole
 t, 2101 Cobbs Ford Rd.\n\nFor more information visit https://www.south
 eastwheelsevents.com/events/brooks-lazenby-memorial-car-show-prattvill
 e-al
DTSTART;TZID=Pacific/Midway:20181117T090000
DTEND;TZID=Pacific/Midway:20181117T140000
CATEGORIES:car, show, cruise, in
LOCATION:Larry Puckett Chevrolet,
WEBSITE:https://www.google.co.in/maps?q=2101+Cobbs+Ford+Rd,+Prattville
 ,+Al&amp;um=1&amp;ie=UTF-8&amp;sa=X&amp;ved=0ahUKEwjlye3q2JPeAhXRVisKH
 bFZBoQQ_AUIDigB
URL:https://www.google.co.in/maps?q=2101+Cobbs+Ford+Rd,+Prattville,+Al
 &amp;um=1&amp;ie=UTF-8&amp;sa=X&amp;ved=0ahUKEwjlye3q2JPeAhXRVisKHbFZB
 oQQ_AUIDigB
CONTACT:(334) 558-7719
ORGANIZER:Braidyn
ATTACH;FMTTYPE="image/jpeg":http://storage.ning.com/topology/rest/1.0/
 file/get/967803228?profile=original
ATTENDEE;ROLE=REQ-PARTICIPANT;PARTSTAT=ACCEPTED;RSVP=TRUE;CN="Anthony 
 Hopkins":https://www.southeastwheelsevents.com/profile/AnthonyHopkins
END:VEVENT
END:VCALENDAR
