BEGIN:VCALENDAR
PRODID:NingEventWidget-v1
VERSION:2.0
METHOD:PUBLISH
BEGIN:VTIMEZONE
TZID:Pacific/Midway
X-LIC-LOCATION:Pacific/Midway
BEGIN:STANDARD
TZOFFSETFROM:-1100
TZOFFSETTO:-1100
TZNAME:SST
DTSTART:19700101T000000
END:STANDARD
END:VTIMEZONE
BEGIN:VEVENT
UID:5072275:Event:1229780
DTSTAMP:20260423T093934Z
SUMMARY:Brothers for Brothers Car and Bike show, StoneCrest, ga
DESCRIPTION:Classic car and bike show 10:00-2:00pm at StoneCrest Mall,
  StoneCrest, Ga \nMultiple awards given out 20.00 registration donati
 on. Come out and celebrate the 20th anniversary of the mall.\n\nFor mo
 re information visit https://www.southeastwheelsevents.com/events/brot
 hers-for-brothers-car-and-bike-show-stonecrest-ga
DTSTART;TZID=Pacific/Midway:20211023T100000
DTEND;TZID=Pacific/Midway:20211023T140000
CATEGORIES:classic, car, and, bike, show
LOCATION:StoneCrest Mall
WEBSITE:http://Brothersforbrothersnetwork.com
URL:http://Brothersforbrothersnetwork.com
CONTACT:678-571-7886
ORGANIZER;CN="Curtis Berry":https://www.southeastwheelsevents.com/prof
 ile/CurtisBerry
ATTACH;FMTTYPE="image/jpeg":https://storage.ning.com/topology/rest/1.0
 /file/get/9719977088?profile=original
ATTENDEE;ROLE=REQ-PARTICIPANT;PARTSTAT=ACCEPTED;RSVP=TRUE;CN="Curtis B
 erry":https://www.southeastwheelsevents.com/profile/CurtisBerry
END:VEVENT
END:VCALENDAR
