BEGIN:VCALENDAR
PRODID:NingEventWidget-v1
VERSION:2.0
METHOD:PUBLISH
BEGIN:VTIMEZONE
TZID:Pacific/Midway
X-LIC-LOCATION:Pacific/Midway
BEGIN:STANDARD
TZOFFSETFROM:-1100
TZOFFSETTO:-1100
TZNAME:SST
DTSTART:19700101T000000
END:STANDARD
END:VTIMEZONE
BEGIN:VEVENT
UID:5072275:Event:1228291
DTSTAMP:20260420T145247Z
SUMMARY:BRUNCH OF CARS - NITRO IN PEACHTREE CORNERS, GA
DESCRIPTION:\r\nAfter coffee, comes Mimosas.....\r\nAtlanta's premier 
 automotive event goes beyond the parking lot by proving fun activities
  for the whole family.We invite you to enjoy your Sunday Bruch with. G
 et served by Atlanta's best food trucks while feasting your eyes on ja
 w-dropping, custom, and exclusive vehicles on display all around you. 
 Then head on over inside Nitro Zone to challenge friends and family be
 hind the wheel of high-speed GO-KARTS. Try your skills at reality TV s
 ize NINJA COURSE. Take the kids to massive TRAMPOLINE PARK with a FAOM
  PIT and not to mention a full-size BOWLING ALLEY. Don't forget to tak
 e advantage of BOTTOMLESS MIMOSAS at the fully stocked bar. There will
  be LIVE MUSIC so come ready to Macarena.\r\nDon't be late as space is
  limited and we will surely fill up quickly because there will be a bu
 nch of cars at........\r\nEntry: 09/05/21 Sponsored by Global Auto Gal
 lery.\r\nFor sponsor and vendor inquires please email us at BruchofCar
 s@gmail.com\r\n\r\n***IMPORTANT*** THIS IS A FAMILY EVENT. SAFETY WILL
  BE A PRIORITY. Acting recklessly will be promptly addressed with seve
 re consequences without a warning. Respect the event, space, and every
 one there.**** \r\nSee Less\r\n\r\n\r\n\r\n\r\n\r\n\n\nFor more infor
 mation visit https://www.southeastwheelsevents.com/events/brunch-of-ca
 rs-nitro-in-peachtree-corners-ga
DTSTART;TZID=Pacific/Midway:20211003T110000
DTEND;TZID=Pacific/Midway:20211003T150000
CATEGORIES:car, show, and, family, fun, day
LOCATION:NITRO ZONE ATLANTA
WEBSITE:
URL:
CONTACT:
ORGANIZER:NITRO ZONE ATLANTA family fun park
ATTACH;FMTTYPE="image/jpeg":https://storage.ning.com/topology/rest/1.0
 /file/get/9539619099?profile=original
ATTENDEE;ROLE=REQ-PARTICIPANT;PARTSTAT=TENTATIVE;RSVP=TRUE;CN="Bill mu
 sarra":https://www.southeastwheelsevents.com/profile/billmusarra
ATTENDEE;ROLE=REQ-PARTICIPANT;PARTSTAT=TENTATIVE;RSVP=TRUE;CN="Jeffrey
  Rutherford":https://www.southeastwheelsevents.com/profile/JeffreyRuth
 erford866
END:VEVENT
END:VCALENDAR
