BEGIN:VCALENDAR
PRODID:NingEventWidget-v1
VERSION:2.0
METHOD:PUBLISH
BEGIN:VTIMEZONE
TZID:Pacific/Midway
X-LIC-LOCATION:Pacific/Midway
BEGIN:STANDARD
TZOFFSETFROM:-1100
TZOFFSETTO:-1100
TZNAME:SST
DTSTART:19700101T000000
END:STANDARD
END:VTIMEZONE
BEGIN:VEVENT
UID:5072275:Event:1233864
DTSTAMP:20260419T082606Z
SUMMARY:Brunch of Cars -Peachtree Corners, GA
DESCRIPTION:\r\n\r\nBRUNCH OF CARS this Sunday.\r\n\r\n\r\n-An automot
 ive gathering that goes beyond the parking lot and brings entertainmen
 t for the whole family.\r\n-Unlimited Go-Karts, Ninja Course, Bowling 
 , Trampoline Park for ONLY $20 (Available only during event hours)\r\n
 -Food Trucks, full bar and Mimosas.\r\n\r\n\r\nTime: 11PM-2PM\r\nWhere
 : Nitro Zone, 6344 Cash CT, Peachtree Corners GA 30071.\r\nEntry: Free
 \r\n\r\n\r\nSee you there right after Caffeine and Octane.\r\n\n\nFor 
 more information visit https://www.southeastwheelsevents.com/events/br
 unch-of-cars-peachtree-corners-ga-5
DTSTART;TZID=Pacific/Midway:20221002T110000
DTEND;TZID=Pacific/Midway:20221002T150000
CATEGORIES:car, show, festival, family, day
LOCATION:Nitro Zone
WEBSITE:https://www.facebook.com/malhotra.sunny
URL:https://www.facebook.com/malhotra.sunny
CONTACT:678-575-5304
ORGANIZER:Gwinnett Meet
ATTACH;FMTTYPE="image/jpeg":https://storage.ning.com/topology/rest/1.0
 /file/get/9535066282?profile=original
ATTENDEE;ROLE=REQ-PARTICIPANT;PARTSTAT=ACCEPTED;RSVP=TRUE;CN="Chuck Aa
 ron":https://www.southeastwheelsevents.com/profile/ChuckAaron886
END:VEVENT
END:VCALENDAR
