BEGIN:VCALENDAR
PRODID:NingEventWidget-v1
VERSION:2.0
METHOD:PUBLISH
BEGIN:VTIMEZONE
TZID:Pacific/Midway
X-LIC-LOCATION:Pacific/Midway
BEGIN:STANDARD
TZOFFSETFROM:-1100
TZOFFSETTO:-1100
TZNAME:SST
DTSTART:19700101T000000
END:STANDARD
END:VTIMEZONE
BEGIN:VEVENT
UID:5072275:Event:504750
DTSTAMP:20260420T044031Z
SUMMARY:BSA Troop 75 Car, Truck and Motorcycle Show, Fairview, NC
DESCRIPTION:Boy Scout Troop 75 of Fairview, NC will be having a Car, T
 ruck, and Motorcycle Show Fundraiser on Saturday, May 5th, from 9 unti
 l 3 at the Fairview Community Center located at 1357 Charlotte Highway
 , Fairview, NC.  The entry fee is $15.00 and there will be door prize
 s, music and food vendors. \n\nFor more information visit https://www
 .southeastwheelsevents.com/events/bsa-troop-75-car-truck-and-motorcycl
 e-show-fairview-nc
DTSTART;TZID=Pacific/Midway:20120505T090000
DTEND;TZID=Pacific/Midway:20120505T150000
CATEGORIES:fundraiser, show
LOCATION:Fairview Community Center
WEBSITE:http://bsatroop75fairviewnc
URL:http://bsatroop75fairviewnc
CONTACT:828-776-2952
ORGANIZER;CN="Tracy Cole":https://www.southeastwheelsevents.com/profil
 e/TracyCole
ATTACH;FMTTYPE="image/jpeg":
ATTENDEE;ROLE=REQ-PARTICIPANT;PARTSTAT=ACCEPTED;RSVP=TRUE;CN="Tracy Co
 le":https://www.southeastwheelsevents.com/profile/TracyCole
END:VEVENT
END:VCALENDAR
