BEGIN:VCALENDAR
PRODID:NingEventWidget-v1
VERSION:2.0
METHOD:PUBLISH
BEGIN:VTIMEZONE
TZID:Pacific/Midway
X-LIC-LOCATION:Pacific/Midway
BEGIN:STANDARD
TZOFFSETFROM:-1100
TZOFFSETTO:-1100
TZNAME:SST
DTSTART:19700101T000000
END:STANDARD
END:VTIMEZONE
BEGIN:VEVENT
UID:5072275:Event:734550
DTSTAMP:20260423T145930Z
SUMMARY:BUG-A-RAMA Annual Show, Swap Meet, Bikes & Trikes -Newnan, GA
DESCRIPTION:BUG-A-RAMA VW SHOW,BIKE 7 TRIKE SHOW.OPEN TO ALL VW'S & BI
 KES & TRIKES.SWAP MEET IS $20. HOURS 9-4 YOU MAY BRING TENTS.PLENTY OF
  PARKING.RAIN OR SHINE.CAR SHOW IS $20. TO ENTER ,HOURS ARE 10-3NO CHA
 RGE FOR SPECTATORS.TOP 20 AWARDS PLUS 3 BEST OF AWARDS.MUSIC,FOOD,FUN,
 DOOR PRIZES, DASH PLAQUES, GOODY BASG,50/50 & MORE.\nLIKE VENDORS TO P
 RE-REGISTER IF POSSIBLE.\nCLEAN RESTROOMS.LOOK AT HARLEYS & OTHERS RID
 ES. OPEN SHOW OPEN TO ALL.EVERYBODY WELCOME.\n\nFor more information v
 isit https://www.southeastwheelsevents.com/events/bug-a-rama-2nd-annua
 l-show-along-with-swap-meet-bike-trikes
DTSTART;TZID=Pacific/Midway:20141011T090000
DTEND;TZID=Pacific/Midway:20141011T160000
CATEGORIES:benefit, local, food, pantry, "[god's", bread, "basket]"
LOCATION:Great South Harley Davidson Newnan
WEBSITE:
URL:
CONTACT:Mary Davenport 706-668-7731
ORGANIZER:Great South Harley Davidson
ATTACH;FMTTYPE="image/jpeg":http://storage.ning.com/topology/rest/1.0/
 file/get/967653179?profile=original
ATTENDEE;ROLE=REQ-PARTICIPANT;PARTSTAT=ACCEPTED;RSVP=TRUE;CN="mary dav
 enport":https://www.southeastwheelsevents.com/profile/marydavenport
END:VEVENT
END:VCALENDAR
