BEGIN:VCALENDAR
PRODID:NingEventWidget-v1
VERSION:2.0
METHOD:PUBLISH
BEGIN:VTIMEZONE
TZID:Pacific/Midway
X-LIC-LOCATION:Pacific/Midway
BEGIN:STANDARD
TZOFFSETFROM:-1100
TZOFFSETTO:-1100
TZNAME:SST
DTSTART:19700101T000000
END:STANDARD
END:VTIMEZONE
BEGIN:VEVENT
UID:5072275:Event:811456
DTSTAMP:20260424T163034Z
SUMMARY:Bug'n in July Car Show and Swap Meet -Decatur, AL
DESCRIPTION:Saturday, July 19th - Rain or Shine!\n\nThe North Alabama 
 Volkswagen Club\nÂ  Â &Â Hiley Volkswagen of Huntsville\nÂ  Â  Â  Â  Â
  present the 15th annual\nÂ  Â  Â  Â  Â  Â  Â  BUG'N in JULY\nÂ  Â  Â 
  Car Show and Swap Meet\nThis show benefits Crisis Services of North A
 labama (www.CSNA.org).\nAwards given for Top 40\nBest Paint\nBest Inte
 rior\nBest Engine\nPeople's Choice\nLongest Distance.\nThere will also
  be a Car Stereo Sound-Off and Engine Sound-Off!\nHeld at Ingall's Har
 bor on the beautiful Tennessee River. Food vendors will be on site.\nO
 pen to the public. Show cars $20 each. Dash plaques for the first 75 c
 ars.Â Vendor spots are $10.\nDJ - Door Prizes - 50/50 Drawing\n\nFor m
 ore information visit https://www.southeastwheelsevents.com/events/bug
 -n-in-july-car-show-and-swap-meet-decatur-al
DTSTART;TZID=Pacific/Midway:20140719T080000
DTEND;TZID=Pacific/Midway:20140719T160000
CATEGORIES:"car show", "swap meet"
LOCATION:Ingalls Harbor in Decatur, AL
WEBSITE:http://www.navwc.com/bugn
URL:http://www.navwc.com/bugn
CONTACT:256-426-8448
ORGANIZER:Todd Carlson
ATTACH;FMTTYPE="image/jpeg":http://storage.ning.com/topology/rest/1.0/
 file/get/967666170?profile=original
ATTENDEE;ROLE=REQ-PARTICIPANT;PARTSTAT=ACCEPTED;RSVP=TRUE;CN=Gumby_Mac
 :https://www.southeastwheelsevents.com/profile/GumbyMac
END:VEVENT
END:VCALENDAR
