BEGIN:VCALENDAR
PRODID:NingEventWidget-v1
VERSION:2.0
METHOD:PUBLISH
BEGIN:VTIMEZONE
TZID:Pacific/Midway
X-LIC-LOCATION:Pacific/Midway
BEGIN:STANDARD
TZOFFSETFROM:-1100
TZOFFSETTO:-1100
TZNAME:SST
DTSTART:19700101T000000
END:STANDARD
END:VTIMEZONE
BEGIN:VEVENT
UID:5072275:Event:643825
DTSTAMP:20260424T014609Z
SUMMARY:Buyavette Cruise-In and Open House -Atlanta, GA
DESCRIPTION:Buyavette is hosting a Cruise-In and Open House on Saturda
 y, May 18th from 9 am - 2:30 pm at our Service and Performance Center.
  This event is open to ALL GM vehicles, and we are also offering free 
 on-lift inspections.   Coffee and donuts in the morning, hot dogs and 
 refreshments in the afternoon.   More info here on our website http://
 www.buyavette.net/events.php\n\nFor more information visit https://www
 .southeastwheelsevents.com/events/buyavette-cruise-in-and-open-house
DTSTART;TZID=Pacific/Midway:20130518T090000
DTEND;TZID=Pacific/Midway:20130518T143000
CATEGORIES:cruise-in, and, open, house
LOCATION:Buyavette Service and Performance Center
WEBSITE:http://www.buyavette.net/events.php
URL:http://www.buyavette.net/events.php
CONTACT:770-414-5552
ORGANIZER;CN=Buyavette:https://www.southeastwheelsevents.com/profile/B
 uyavette
ATTACH;FMTTYPE="image/jpeg":http://storage.ning.com/topology/rest/1.0/
 file/get/967639020?profile=original
ATTENDEE;ROLE=REQ-PARTICIPANT;PARTSTAT=ACCEPTED;RSVP=TRUE;CN="Barry Ha
 wkins":https://www.southeastwheelsevents.com/profile/BarryHawkins
ATTENDEE;ROLE=REQ-PARTICIPANT;PARTSTAT=ACCEPTED;RSVP=TRUE;CN=Buyavette
 :https://www.southeastwheelsevents.com/profile/Buyavette
END:VEVENT
END:VCALENDAR
