BEGIN:VCALENDAR
PRODID:NingEventWidget-v1
VERSION:2.0
METHOD:PUBLISH
BEGIN:VTIMEZONE
TZID:Pacific/Midway
X-LIC-LOCATION:Pacific/Midway
BEGIN:STANDARD
TZOFFSETFROM:-1100
TZOFFSETTO:-1100
TZNAME:SST
DTSTART:19700101T000000
END:STANDARD
END:VTIMEZONE
BEGIN:VEVENT
UID:5072275:Event:617422
DTSTAMP:20260424T014231Z
SUMMARY:Buyavette Performance Center Spring Car Show -Atlanta, GA
DESCRIPTION:Service and Performance Center Car Show  Dear Corvette Ent
 husiast,  Our Service and Performance Center is now fully up and runni
 ng, and to celebrate, we're hosting a Grand Opening and Car Show onSat
 urday, May 18th from 10 am to 3 pm!  This is a great opportunity to co
 me out and see our new facilities, show off your ride, and look around
  the show room.   Clubs are welcome -- please contact Bryan Maloof or
  Jonathan Britt at (678)395-3957 to arrange parking for your club.   
 Rack Time will be offered on the day of the show on a first-come, firs
 t-served basis, and Vette Parts Plus will be offering 15% off all acce
 ssories as well. The show will be held at our new Service and Performa
 nce Center, located at 3661 Presidential Parkway, just across the high
 way from our Sales Center. \nThis is a great opportunity to see your 
 car on a rack, and talk to one of our Corvette Technicians about any i
 ssues you may have.   We hope to see you on the 18th! Please contact 
 me with ANY questions!    Sincerely,  Jonathan Britt Assistant Servic
 e Manager  Buyavette® 3661 Presidential Parkway Atlanta, Ga 30340 (77
 0) 395-3957 Work (678) 863-9670 Cell\nservice@buyavette.net\n\nFor mor
 e information visit https://www.southeastwheelsevents.com/events/buyav
 ette-performance-center-spring-car-show
DTSTART;TZID=Pacific/Midway:20130518T100000
DTEND;TZID=Pacific/Midway:20130518T150000
CATEGORIES:car, show, shop, time, corvette, classic
LOCATION:Buyavette Performance Center
WEBSITE:https://maps.google.com/maps?q=3661+presidential+parkway+atlan
 ta+ga&ie=UTF-8&hq=&hnear=0x88f5a780918006dd:0xc92c3f7a8b4e7d38,3661+Pr
 esidential+Pkwy,+Atlanta,+GA+30340&gl=us&ei=HeAPUdm1LJPo9gTer4BI&ved=0
 CDMQ8gEwAA
URL:https://maps.google.com/maps?q=3661+presidential+parkway+atlanta+g
 a&ie=UTF-8&hq=&hnear=0x88f5a780918006dd:0xc92c3f7a8b4e7d38,3661+Presid
 ential+Pkwy,+Atlanta,+GA+30340&gl=us&ei=HeAPUdm1LJPo9gTer4BI&ved=0CDMQ
 8gEwAA
CONTACT:678-395-3957
ORGANIZER;CN="Jonathan Britt":https://www.southeastwheelsevents.com/pr
 ofile/JonathanBritt
ATTACH;FMTTYPE="image/jpeg":http://storage.ning.com/topology/rest/1.0/
 file/get/967631219?profile=original
ATTENDEE;ROLE=REQ-PARTICIPANT;PARTSTAT=ACCEPTED;RSVP=TRUE;CN="Jonathan
  Britt":https://www.southeastwheelsevents.com/profile/JonathanBritt
END:VEVENT
END:VCALENDAR
