BEGIN:VCALENDAR
PRODID:NingEventWidget-v1
VERSION:2.0
METHOD:PUBLISH
BEGIN:VTIMEZONE
TZID:Pacific/Midway
X-LIC-LOCATION:Pacific/Midway
BEGIN:STANDARD
TZOFFSETFROM:-1100
TZOFFSETTO:-1100
TZNAME:SST
DTSTART:19700101T000000
END:STANDARD
END:VTIMEZONE
BEGIN:VEVENT
UID:5072275:Event:1193770
DTSTAMP:20260423T231707Z
SUMMARY:C-10 Nationals
DESCRIPTION:All years of Chevy / GMC trucks with DJ, Trophy's and new 
 and used vendors.\n\nFor more information visit https://www.southeastw
 heelsevents.com/events/c-10-nationals-3
DTSTART;TZID=Pacific/Midway:20200924T080000
DTEND;TZID=Pacific/Midway:20200926T160000
CATEGORIES:truck, show, and, swap, meet
LOCATION:Maggie Valley Festival Grounds
WEBSITE:http://www.surfboardpromotion.com
URL:http://www.surfboardpromotion.com
CONTACT:423-608-4519
ORGANIZER;CN="rodney buckner":https://www.southeastwheelsevents.com/pr
 ofile/rodneybuckner
ATTACH;FMTTYPE="image/jpeg":https://storage.ning.com/topology/rest/1.0
 /file/get/4567833257?profile=original
ATTENDEE;ROLE=REQ-PARTICIPANT;PARTSTAT=ACCEPTED;RSVP=TRUE;CN="rodney b
 uckner":https://www.southeastwheelsevents.com/profile/rodneybuckner
END:VEVENT
END:VCALENDAR
