BEGIN:VCALENDAR
PRODID:NingEventWidget-v1
VERSION:2.0
METHOD:PUBLISH
BEGIN:VTIMEZONE
TZID:Pacific/Midway
X-LIC-LOCATION:Pacific/Midway
BEGIN:STANDARD
TZOFFSETFROM:-1100
TZOFFSETTO:-1100
TZNAME:SST
DTSTART:19700101T000000
END:STANDARD
END:VTIMEZONE
BEGIN:VEVENT
UID:5072275:Event:605647
DTSTAMP:20260422T062259Z
SUMMARY:Cabin Fever Open Rod Run -Knoxville, TN
DESCRIPTION:37th Annual Cabin Fever Open Rod Run -Knoxville, TN\r\nTH
 IRTY SEVEN YEARS!!!\r\n\r\nAdmission $10.00, Children under 12 free\n\
 nFor more information visit https://www.southeastwheelsevents.com/even
 ts/cabin-fever-open-rod-run-knoxville-tn
DTSTART;TZID=Pacific/Midway:20210611T000000
DTEND;TZID=Pacific/Midway:20210613T235900
CATEGORIES:rod-run, car, show
LOCATION:Knoxville Expo Center
WEBSITE:https://cabinfevercarshow.net/
URL:https://cabinfevercarshow.net/
CONTACT:Troy 865-382-2614
ORGANIZER:Cabin Fever Car and Motorcycle Show
ATTACH;FMTTYPE="image/jpeg":http://storage.ning.com/topology/rest/1.0/
 file/get/967631533?profile=original
ATTENDEE;ROLE=REQ-PARTICIPANT;PARTSTAT=ACCEPTED;RSVP=TRUE;CN="Jack Tho
 mas":https://www.southeastwheelsevents.com/profile/JackThomas
END:VEVENT
END:VCALENDAR
