BEGIN:VCALENDAR
PRODID:NingEventWidget-v1
VERSION:2.0
METHOD:PUBLISH
BEGIN:VTIMEZONE
TZID:Pacific/Midway
X-LIC-LOCATION:Pacific/Midway
BEGIN:STANDARD
TZOFFSETFROM:-1100
TZOFFSETTO:-1100
TZNAME:SST
DTSTART:19700101T000000
END:STANDARD
END:VTIMEZONE
BEGIN:VEVENT
UID:5072275:Event:1160663
DTSTAMP:20260425T082936Z
SUMMARY:Caffeine and Chrome -Alpharetta, GA
DESCRIPTION:Cruise in to Gateway Classic Cars every last Saturday of t
 he month for Cars & Coffee:  So far we have had some amazing turnouts
 , but we want to continue to grow!  Enjoy delicious donuts, coffee and
  all of our sweet rides!  No Admission fee and everyone is welcome! No
  cruiser? No sweat bring the daily driver.  Hope to see you there. 250
 + classic & exotics\r\nJanuary 26 2019\r\nFebruary 23 2019\r\nMarch 30
  2019\r\nApril 27 2019\r\nMay 25 2019\r\nJune 29 2019\r\nJuly 27 2019\
 r\nAugust 31 2019\r\nSeptember 28 2019\r\nOctober 26 2019\r\nNovember 
 30 2019\r\nDecember 28 2019\r\nEVERY LAST SATURDAY OF THE MONTH 9 AM -
  12 PM  NOW ACCEPTING VENDORS!\n\nFor more information visit https://w
 ww.southeastwheelsevents.com/events/caffeine-amp-chrome-7
DTSTART;TZID=Pacific/Midway:20190928T090000
DTEND;TZID=Pacific/Midway:20190928T120000
CATEGORIES:cruise, in
LOCATION:Gateway Classic Cars
WEBSITE:https://www.gatewayclassiccars.com/fluid-locations?location=AT
 L
URL:https://www.gatewayclassiccars.com/fluid-locations?location=ATL
CONTACT:678-839-9709
ORGANIZER;CN="Gateway Classic Cars":https://www.southeastwheelsevents.
 com/profile/GatewayClassicCars
ATTACH;FMTTYPE="image/jpeg":https://storage.ning.com/topology/rest/1.0
 /file/get/1639011036?profile=original
ATTENDEE;ROLE=REQ-PARTICIPANT;PARTSTAT=ACCEPTED;RSVP=TRUE;CN="Gateway 
 Classic Cars":https://www.southeastwheelsevents.com/profile/GatewayCla
 ssicCars
END:VEVENT
END:VCALENDAR
