BEGIN:VCALENDAR
PRODID:NingEventWidget-v1
VERSION:2.0
METHOD:PUBLISH
BEGIN:VTIMEZONE
TZID:Pacific/Midway
X-LIC-LOCATION:Pacific/Midway
BEGIN:STANDARD
TZOFFSETFROM:-1100
TZOFFSETTO:-1100
TZNAME:SST
DTSTART:19700101T000000
END:STANDARD
END:VTIMEZONE
BEGIN:VEVENT
UID:5072275:Event:84841
DTSTAMP:20260420T110542Z
SUMMARY:Caffeine and Octane Gathering -Alpharetta, GA
DESCRIPTION:We want to set up more in front of the bookstore. \n- Sta
 rbucks opens at 7am!!\nBring your cameras and video equipment.  This 
 is the picture perfect opportunity.\n \n \n\nFor more information vi
 sit https://www.southeastwheelsevents.com/events/caffeine-and-octane-g
 athering
DTSTART;TZID=Pacific/Midway:20110605T073000
DTEND;TZID=Pacific/Midway:20110605T110000
CATEGORIES:cruise, gathering, classics
LOCATION:Mansell Crossing
WEBSITE:http://www.caffeineandoctane.com/
URL:http://www.caffeineandoctane.com/
CONTACT:
ORGANIZER:Mark Ritter
ATTACH;FMTTYPE="image/jpeg":http://storage.ning.com/topology/rest/1.0/
 file/get/967583838?profile=original
ATTENDEE;ROLE=REQ-PARTICIPANT;PARTSTAT=ACCEPTED;RSVP=TRUE;CN="Don Gall
 a":https://www.southeastwheelsevents.com/profile/DonGalla
ATTENDEE;ROLE=REQ-PARTICIPANT;PARTSTAT=ACCEPTED;RSVP=TRUE;CN="Steve St
 rodel":https://www.southeastwheelsevents.com/profile/SteveStrodel
ATTENDEE;ROLE=REQ-PARTICIPANT;PARTSTAT=ACCEPTED;RSVP=TRUE;CN="Threo At
 e":https://www.southeastwheelsevents.com/profile/ThreoAte
ATTENDEE;ROLE=REQ-PARTICIPANT;PARTSTAT=ACCEPTED;RSVP=TRUE;CN="Roger W.
  Lett":https://www.southeastwheelsevents.com/profile/RogerWLett
ATTENDEE;ROLE=REQ-PARTICIPANT;PARTSTAT=ACCEPTED;RSVP=TRUE;CN="Nick Wat
 kins":https://www.southeastwheelsevents.com/profile/NickWatkins
ATTENDEE;ROLE=REQ-PARTICIPANT;PARTSTAT=ACCEPTED;RSVP=TRUE;CN="Tom Hell
 er":https://www.southeastwheelsevents.com/profile/TomHeller
ATTENDEE;ROLE=REQ-PARTICIPANT;PARTSTAT=ACCEPTED;RSVP=TRUE;CN="Russell 
 Potter":https://www.southeastwheelsevents.com/profile/RussellPotter
ATTENDEE;ROLE=REQ-PARTICIPANT;PARTSTAT=ACCEPTED;RSVP=TRUE;CN="Joe Cami
 re":https://www.southeastwheelsevents.com/profile/JoeCamire
ATTENDEE;ROLE=REQ-PARTICIPANT;PARTSTAT=ACCEPTED;RSVP=TRUE;CN=Les:https
 ://www.southeastwheelsevents.com/profile/Les
ATTENDEE;ROLE=REQ-PARTICIPANT;PARTSTAT=ACCEPTED;RSVP=TRUE;CN="Tommy Br
 own":https://www.southeastwheelsevents.com/profile/TommyBrown
ATTENDEE;ROLE=REQ-PARTICIPANT;PARTSTAT=ACCEPTED;RSVP=TRUE;CN="Richard 
 Scott":https://www.southeastwheelsevents.com/profile/RichardScott
ATTENDEE;ROLE=REQ-PARTICIPANT;PARTSTAT=ACCEPTED;RSVP=TRUE;CN="Miguel C
 aparros":https://www.southeastwheelsevents.com/profile/MiguelCaparros
ATTENDEE;ROLE=REQ-PARTICIPANT;PARTSTAT=ACCEPTED;RSVP=TRUE;CN="Matt Isb
 ell":https://www.southeastwheelsevents.com/profile/MattIsbell
ATTENDEE;ROLE=REQ-PARTICIPANT;PARTSTAT=ACCEPTED;RSVP=TRUE;CN="Don Barn
 es":https://www.southeastwheelsevents.com/profile/DonBarnes
ATTENDEE;ROLE=REQ-PARTICIPANT;PARTSTAT=ACCEPTED;RSVP=TRUE;CN="jim nels
 on":https://www.southeastwheelsevents.com/profile/jimnelson
ATTENDEE;ROLE=REQ-PARTICIPANT;PARTSTAT=ACCEPTED;RSVP=TRUE;CN="jim (MOP
 AR JIM )nelson":https://www.southeastwheelsevents.com/profile/jimnelso
 n877
ATTENDEE;ROLE=REQ-PARTICIPANT;PARTSTAT=ACCEPTED;RSVP=TRUE;CN="Greg Fos
 ter":https://www.southeastwheelsevents.com/profile/GregFoster
ATTENDEE;ROLE=REQ-PARTICIPANT;PARTSTAT=ACCEPTED;RSVP=TRUE;CN="Bruce rh
 odes":https://www.southeastwheelsevents.com/profile/Brucerhodes
ATTENDEE;ROLE=REQ-PARTICIPANT;PARTSTAT=ACCEPTED;RSVP=TRUE;CN="Michael 
 Thies":https://www.southeastwheelsevents.com/profile/MichaelThies
ATTENDEE;ROLE=REQ-PARTICIPANT;PARTSTAT=ACCEPTED;RSVP=TRUE;CN="Ken Yoke
 lson":https://www.southeastwheelsevents.com/profile/KenYokelson
ATTENDEE;ROLE=REQ-PARTICIPANT;PARTSTAT=ACCEPTED;RSVP=TRUE;CN="Neil Han
 na":https://www.southeastwheelsevents.com/profile/NeilHanna
ATTENDEE;ROLE=REQ-PARTICIPANT;PARTSTAT=ACCEPTED;RSVP=TRUE;CN="Dante Do
 nati":https://www.southeastwheelsevents.com/profile/DanteDonati
ATTENDEE;ROLE=REQ-PARTICIPANT;PARTSTAT=ACCEPTED;RSVP=TRUE;CN="Danny Th
 omas":https://www.southeastwheelsevents.com/profile/DannyThomas
ATTENDEE;ROLE=REQ-PARTICIPANT;PARTSTAT=ACCEPTED;RSVP=TRUE;CN="Jerry K.
  Brown":https://www.southeastwheelsevents.com/profile/JerryKBrown
ATTENDEE;ROLE=REQ-PARTICIPANT;PARTSTAT=ACCEPTED;RSVP=TRUE;CN="Wes Pott
 s":https://www.southeastwheelsevents.com/profile/WesPotts
ATTENDEE;ROLE=REQ-PARTICIPANT;PARTSTAT=ACCEPTED;RSVP=TRUE;CN="Lee Verm
 ont":https://www.southeastwheelsevents.com/profile/LeeVermont
ATTENDEE;ROLE=REQ-PARTICIPANT;PARTSTAT=TENTATIVE;RSVP=TRUE;CN="John Ba
 ker":https://www.southeastwheelsevents.com/profile/JohnJBaker
ATTENDEE;ROLE=REQ-PARTICIPANT;PARTSTAT=TENTATIVE;RSVP=TRUE;CN="Mike Da
 ly Sr":https://www.southeastwheelsevents.com/profile/MikeDalySr
ATTENDEE;ROLE=REQ-PARTICIPANT;PARTSTAT=TENTATIVE;RSVP=TRUE;CN="Ed Mist
 retta":https://www.southeastwheelsevents.com/profile/EdMistretta
ATTENDEE;ROLE=REQ-PARTICIPANT;PARTSTAT=TENTATIVE;RSVP=TRUE;CN="Brad Sc
 hneider":https://www.southeastwheelsevents.com/profile/BradSchneider
ATTENDEE;ROLE=REQ-PARTICIPANT;PARTSTAT=TENTATIVE;RSVP=TRUE;CN="Dee Luc
 as":https://www.southeastwheelsevents.com/profile/DeeLucas
ATTENDEE;ROLE=REQ-PARTICIPANT;PARTSTAT=TENTATIVE;RSVP=TRUE;CN="Steven 
 Flynn":https://www.southeastwheelsevents.com/profile/StevenFlynn
ATTENDEE;ROLE=REQ-PARTICIPANT;PARTSTAT=TENTATIVE;RSVP=TRUE;CN="David L
 ynn":https://www.southeastwheelsevents.com/profile/DavidLynn
ATTENDEE;ROLE=REQ-PARTICIPANT;PARTSTAT=TENTATIVE;RSVP=TRUE;CN="Ben Scr
 uggs":https://www.southeastwheelsevents.com/profile/BenScruggs
ATTENDEE;ROLE=REQ-PARTICIPANT;PARTSTAT=TENTATIVE;RSVP=TRUE;CN="Roger C
 rummett":https://www.southeastwheelsevents.com/profile/RogerCrummett
ATTENDEE;ROLE=REQ-PARTICIPANT;PARTSTAT=TENTATIVE;RSVP=TRUE;CN="troy wi
 lliams":https://www.southeastwheelsevents.com/profile/troywilliams
ATTENDEE;ROLE=REQ-PARTICIPANT;PARTSTAT=TENTATIVE;RSVP=TRUE;CN="joe goo
 dmon":https://www.southeastwheelsevents.com/profile/joegoodmon
ATTENDEE;ROLE=REQ-PARTICIPANT;PARTSTAT=TENTATIVE;RSVP=TRUE;CN="scott m
 cclain":https://www.southeastwheelsevents.com/profile/brianscottmcclai
 n
END:VEVENT
END:VCALENDAR
