BEGIN:VCALENDAR
PRODID:NingEventWidget-v1
VERSION:2.0
METHOD:PUBLISH
BEGIN:VTIMEZONE
TZID:Pacific/Midway
X-LIC-LOCATION:Pacific/Midway
BEGIN:STANDARD
TZOFFSETFROM:-1100
TZOFFSETTO:-1100
TZNAME:SST
DTSTART:19700101T000000
END:STANDARD
END:VTIMEZONE
BEGIN:VEVENT
UID:5072275:Event:1224273
DTSTAMP:20260423T094908Z
SUMMARY:Caffeine & Octane at the Drags -Hampton, GA
DESCRIPTION:\n\nFor more information visit https://www.southeastwheels
 events.com/events/caffeine-octane-at-the-drags-hampton-ga
DTSTART;TZID=Pacific/Midway:20210613T120000
DTEND;TZID=Pacific/Midway:20210613T190000
CATEGORIES:cruise-in, car-show, races, drift
LOCATION:Atlanta Motor Speedway
WEBSITE:http://www.caffeineandoctane.com/
URL:http://www.caffeineandoctane.com/
CONTACT:(770) 395-7900 / 770-883-0160
ORGANIZER:Caffeine and Octane
ATTACH;FMTTYPE="image/jpeg":https://storage.ning.com/topology/rest/1.0
 /file/get/8877455884?profile=original
ATTENDEE;ROLE=REQ-PARTICIPANT;PARTSTAT=ACCEPTED;RSVP=TRUE;CN="jim bauc
 h":https://www.southeastwheelsevents.com/profile/jimbauch
ATTENDEE;ROLE=REQ-PARTICIPANT;PARTSTAT=ACCEPTED;RSVP=TRUE;CN="Michael 
 Thies":https://www.southeastwheelsevents.com/profile/MichaelThies
ATTENDEE;ROLE=REQ-PARTICIPANT;PARTSTAT=TENTATIVE;RSVP=TRUE;CN="Stephan
  Darrow":https://www.southeastwheelsevents.com/profile/StephanDarrow
END:VEVENT
END:VCALENDAR
