BEGIN:VCALENDAR
PRODID:NingEventWidget-v1
VERSION:2.0
METHOD:PUBLISH
BEGIN:VTIMEZONE
TZID:Pacific/Midway
X-LIC-LOCATION:Pacific/Midway
BEGIN:STANDARD
TZOFFSETFROM:-1100
TZOFFSETTO:-1100
TZNAME:SST
DTSTART:19700101T000000
END:STANDARD
END:VTIMEZONE
BEGIN:VEVENT
UID:5072275:Event:1268359
DTSTAMP:20260423T000114Z
SUMMARY:Caffeine & Octane - Kennesaw, GA
DESCRIPTION:Caffeine and OctaneÂ is a nationally recognized all makes,
  all models car show that regularly attracts over 2000 vehicles and 15
 ,000 fans. The event is held (rain or shine) the first Sunday morning 
 of each month from 8AM - 11AM at Perimeter Mall, located on the Norths
 ide of Atlanta in Dunwoody GA. TheÂ Caffeine and OctaneÂ faithful get 
 up very early to watch the parade of cars that begin arriving well bef
 ore sunrise.\r\nCaffeine and OctaneÂ is an all makes and models show.Â
   We feature cars that defy known automotive niches. If it has wheels 
 and a motor, you'll find it atÂ Caffeine and Octane! One thing we guar
 antee is you'll always see something new at every show.Â \r\nTheÂ Caff
 eine and Octane TV ShowÂ is filmed live at theÂ Caffeine and OctaneÂ C
 ar Shows.Â  Season Two of our top-ratedÂ Caffeine & Octane TV ShowÂ pr
 emiered on the NBC Sports Network in October of 2017.Â  Our show conta
 ins no fake drama or deadlines.Â  It is a show that celebrates real au
 tomotive enthusiasts and their passion for cars.Â Â \r\n\r\nCheck out 
 the photos forÂ previousÂ months!\r\n\r\nhttp://southeastwheelsevents.
 com/photo/albums/caffeine-octane-january-1-2012\r\nhttp://southeastwhe
 elsevents.com/photo/albums/sep-2011-caffeine-and-octane-pt1-10\r\nhttp
 ://southeastwheelsevents.com/photo/albums/caffeine-and-octane-nov-7-pt
 2\r\nhttp://southeastwheelsevents.com/photo/albums/caffeine-and-octane
 -feb-62011-4\n\nFor more information visit https://www.southeastwheels
 events.com/events/caffeine-octane-kennesaw-ga-9
DTSTART;TZID=Pacific/Midway:20250504T080000
DTEND;TZID=Pacific/Midway:20250504T120000
CATEGORIES:cruise-in, car-show, caffeine, octane, georgia, kennesaw
LOCATION:Town Center at Cobb
WEBSITE:http://www.caffeineandoctane.com/
URL:http://www.caffeineandoctane.com/
CONTACT:404-713-9225 / 770-883-0160
ORGANIZER:Caffeine and Octane
ATTACH;FMTTYPE="image/jpeg":http://storage.ning.com/topology/rest/1.0/
 file/get/967650402?profile=original
ATTENDEE;ROLE=REQ-PARTICIPANT;PARTSTAT=ACCEPTED;RSVP=TRUE;CN="Michael 
 Thies":https://www.southeastwheelsevents.com/profile/MichaelThies
END:VEVENT
END:VCALENDAR
