BEGIN:VCALENDAR
PRODID:NingEventWidget-v1
VERSION:2.0
METHOD:PUBLISH
BEGIN:VTIMEZONE
TZID:Pacific/Midway
X-LIC-LOCATION:Pacific/Midway
BEGIN:STANDARD
TZOFFSETFROM:-1100
TZOFFSETTO:-1100
TZNAME:SST
DTSTART:19700101T000000
END:STANDARD
END:VTIMEZONE
BEGIN:VEVENT
UID:5072275:Event:1023031
DTSTAMP:20260422T145833Z
SUMMARY:CANCELLED-Caffeine & Octane Velosity Intro Taping - Smyrna, Ga
  - CANCELLED
DESCRIPTION:Skip Smith of Classic Autosmith is the lead on getting a v
 ariety of collector cars for the Velosity taping of the Introduction f
 or the new Caffeine & Octane Show starting this winter.  CANCELLED DU
 E TO BAD WEATHER -  A POSTING WILL BE UP SOON ABOUT A RESCHEDULED DAT
 E!\n\nFor more information visit https://www.southeastwheelsevents.com
 /events/caffeine-octane-velostu-intro-taping-smyrna-ga
DTSTART;TZID=Pacific/Midway:20161206T000000
DTEND;TZID=Pacific/Midway:20161206T235900
CATEGORIES:tv, taping, cruise-in
LOCATION:Rev Coffee Shop
WEBSITE:http://www.caffeineandoctane.com/
URL:http://www.caffeineandoctane.com/
CONTACT:678-521-5192
ORGANIZER:Caffeine & Octane/Classic Autosmith
ATTACH;FMTTYPE="image/jpeg":http://storage.ning.com/topology/rest/1.0/
 file/get/967650402?profile=original
ATTENDEE;ROLE=REQ-PARTICIPANT;PARTSTAT=ACCEPTED;RSVP=TRUE;CN=Jim:https
 ://www.southeastwheelsevents.com/profile/Jim
ATTENDEE;ROLE=REQ-PARTICIPANT;PARTSTAT=ACCEPTED;RSVP=TRUE;CN="Michael 
 Thies":https://www.southeastwheelsevents.com/profile/MichaelThies
END:VEVENT
END:VCALENDAR
