BEGIN:VCALENDAR
PRODID:NingEventWidget-v1
VERSION:2.0
METHOD:PUBLISH
BEGIN:VTIMEZONE
TZID:Pacific/Midway
X-LIC-LOCATION:Pacific/Midway
BEGIN:STANDARD
TZOFFSETFROM:-1100
TZOFFSETTO:-1100
TZNAME:SST
DTSTART:19700101T000000
END:STANDARD
END:VTIMEZONE
BEGIN:VEVENT
UID:5072275:Event:555166
DTSTAMP:20260424T080301Z
SUMMARY:caffine and octane
DESCRIPTION:Lots of great cars, about 400.\n\nFor more information vis
 it https://www.southeastwheelsevents.com/events/caffine-and-octane
DTSTART;TZID=Pacific/Midway:20120902T180000
DTEND;TZID=Pacific/Midway:20120902T190000
CATEGORIES:car, show
LOCATION:Alpharetta
WEBSITE:
URL:
CONTACT:
ORGANIZER;CN="John Denton":https://www.southeastwheelsevents.com/profi
 le/JohnDenton
ATTACH;FMTTYPE="image/jpeg":
ATTENDEE;ROLE=REQ-PARTICIPANT;PARTSTAT=ACCEPTED;RSVP=TRUE;CN="John Den
 ton":https://www.southeastwheelsevents.com/profile/JohnDenton
END:VEVENT
END:VCALENDAR
