BEGIN:VCALENDAR
PRODID:NingEventWidget-v1
VERSION:2.0
METHOD:PUBLISH
BEGIN:VTIMEZONE
TZID:Pacific/Midway
X-LIC-LOCATION:Pacific/Midway
BEGIN:STANDARD
TZOFFSETFROM:-1100
TZOFFSETTO:-1100
TZNAME:SST
DTSTART:19700101T000000
END:STANDARD
END:VTIMEZONE
BEGIN:VEVENT
UID:5072275:Event:1030427
DTSTAMP:20260423T035213Z
SUMMARY:Calvary Riders Monthly Meeting
DESCRIPTION:You are invited to join us in fellowship at our monthly me
 etings. We meet the second Thursday of every month at 6 PM to eat and 
 7:00 PM to meet. For first time visitors; the meal is free. Meeting en
 d time may change.\n\nFor more information visit https://www.southeast
 wheelsevents.com/events/calvary-riders-monthly-meeting
DTSTART;TZID=Pacific/Midway:20170209T180000
DTEND;TZID=Pacific/Midway:20170209T210000
CATEGORIES:motorcycles, "clubs/shows/cruises"
LOCATION:Wild Wing Cafe
WEBSITE:http://cmaser6.org/AL/CALVARYRIDERS/meeting-info.aspx
URL:http://cmaser6.org/AL/CALVARYRIDERS/meeting-info.aspx
CONTACT:
ORGANIZER:Christian Motorcyclists Association Calvary Riders
ATTACH;FMTTYPE="image/jpeg":
ATTENDEE;ROLE=REQ-PARTICIPANT;PARTSTAT=ACCEPTED;RSVP=TRUE;CN="Christop
 her Gosney":https://www.southeastwheelsevents.com/profile/ChristopherG
 osney
END:VEVENT
END:VCALENDAR
