BEGIN:VCALENDAR
PRODID:NingEventWidget-v1
VERSION:2.0
METHOD:PUBLISH
BEGIN:VTIMEZONE
TZID:Pacific/Midway
X-LIC-LOCATION:Pacific/Midway
BEGIN:STANDARD
TZOFFSETFROM:-1100
TZOFFSETTO:-1100
TZNAME:SST
DTSTART:19700101T000000
END:STANDARD
END:VTIMEZONE
BEGIN:VEVENT
UID:5072275:Event:1202577
DTSTAMP:20260421T220631Z
SUMMARY:CANCELLED - 17th Annual Hubcaps and History Classic Car Show -
  Marietta, Ga
DESCRIPTION:CANCELLED - - Annual Hubcaps and History Classic Car Show 
 and Annual Historic Marietta StreetFest.\n\nFor more information visi
 t https://www.southeastwheelsevents.com/events/cancelled-17th-annual-h
 ubcaps-and-history-classic-car-show-mariet
DTSTART;TZID=Pacific/Midway:20200919T000000
DTEND;TZID=Pacific/Midway:20200920T235900
CATEGORIES:car, show, cruise, in
LOCATION:Square,
WEBSITE:http://mariettastreetfest.com
URL:http://mariettastreetfest.com
CONTACT:(770) 794-5710
ORGANIZER:Christa
ATTACH;FMTTYPE="image/jpeg":http://storage.ning.com/topology/rest/1.0/
 file/get/967791897?profile=original
ATTENDEE;ROLE=REQ-PARTICIPANT;PARTSTAT=ACCEPTED;RSVP=TRUE;CN="Chuck Aa
 ron":https://www.southeastwheelsevents.com/profile/ChuckAaron886
END:VEVENT
END:VCALENDAR
