BEGIN:VCALENDAR
PRODID:NingEventWidget-v1
VERSION:2.0
METHOD:PUBLISH
BEGIN:VTIMEZONE
TZID:Pacific/Midway
X-LIC-LOCATION:Pacific/Midway
BEGIN:STANDARD
TZOFFSETFROM:-1100
TZOFFSETTO:-1100
TZNAME:SST
DTSTART:19700101T000000
END:STANDARD
END:VTIMEZONE
BEGIN:VEVENT
UID:5072275:Event:1191544
DTSTAMP:20260423T190002Z
SUMMARY:Dahlonega 3rd Monday of the Month Cruise in -Dahlonega, GA
DESCRIPTION:Just a reminder that this coming Monday, April 17th, we wi
 ll have our first cruise-in for 2023. Here is the weather forecast for
  Monday:\r\n\r\n\r\n\r\nThe only question is where ??? \r\n\r\nOpti
 on #1: Lot 49 in the UNG campus in front of the Library. Turn onto T
 hompson Circle (directly across from the Dairy Queen). Take the 2nd ri
 ght into the parking lot.\r\n\r\n\r\nOption #2: Lot 50 in the UNG cam
 pus. Turn onto Thompson Circle (directly across from the Dairy Queen).
  Take the 2nd left into the parking lot.\r\n\r\n\r\n\r\n\r\nLot 49 is
  closer to the Library entrance and therefore closer to the rest rooms
 . However Lot 50 is just another 20 yards further away.\r\n\r\nOptio
 n #3: The public commuter parking lot on the corner of Hwy 400 and Hwy
  60 next to the Waffle House on Long Branch Road.\r\n\n\nFor more info
 rmation visit https://www.southeastwheelsevents.com/events/cancelled-d
 ahlonega-3rd-monday-of-the-month-cruise-in-dahlonega-g
DTSTART;TZID=Pacific/Midway:20230417T170000
DTEND;TZID=Pacific/Midway:20230417T200000
CATEGORIES:cruise, in
LOCATION:Option #1: Lot 49 in the UNG campus in front of the Library. 
 Turn onto Thompson Circle (directly across from the Dairy Queen). Take
  the 2nd right into the parking lot. Option #2: Lot 50 in the UNG camp
 us. Turn onto Thompson Circle (directly across from t
WEBSITE:http://www.dahlonegacarclub.com/
URL:http://www.dahlonegacarclub.com/
CONTACT:Bill Morris 706 969-4797
ORGANIZER:Dahlonega Car Club
ATTACH;FMTTYPE="image/jpeg":https://storage.ning.com/topology/rest/1.0
 /file/get/11028865053?profile=original
ATTENDEE;ROLE=REQ-PARTICIPANT;PARTSTAT=ACCEPTED;RSVP=TRUE;CN="Chuck Aa
 ron":https://www.southeastwheelsevents.com/profile/ChuckAaron886
END:VEVENT
END:VCALENDAR
