BEGIN:VCALENDAR
PRODID:NingEventWidget-v1
VERSION:2.0
METHOD:PUBLISH
BEGIN:VTIMEZONE
TZID:Pacific/Midway
X-LIC-LOCATION:Pacific/Midway
BEGIN:STANDARD
TZOFFSETFROM:-1100
TZOFFSETTO:-1100
TZNAME:SST
DTSTART:19700101T000000
END:STANDARD
END:VTIMEZONE
BEGIN:VEVENT
UID:5072275:Event:1027876
DTSTAMP:20260423T061719Z
SUMMARY:Cancer Freeze Car/Bike Show -Florala, AL
DESCRIPTION:\r\nHelp us spread the word about our annual event. Come a
 nd support the efforts put forth by so many volunteers this day!\r\n\n
 \nFor more information visit https://www.southeastwheelsevents.com/eve
 nts/cancer-freeze-car-bike-show-florala-al
DTSTART;TZID=Pacific/Midway:20180204T080000
DTEND;TZID=Pacific/Midway:20180204T130000
CATEGORIES:car, bike, show, fund-raiser, charity
LOCATION:Lake Jackson
WEBSITE:http://cancerfreeze.org/
URL:http://cancerfreeze.org/
CONTACT:Kim 850-874-1730 cfcarshows@outlook.com
ORGANIZER:Cancer Freeze
ATTACH;FMTTYPE="image/jpeg":http://storage.ning.com/topology/rest/1.0/
 file/get/967726703?profile=original
ATTENDEE;ROLE=REQ-PARTICIPANT;PARTSTAT=ACCEPTED;RSVP=TRUE;CN="Chuck Aa
 ron":https://www.southeastwheelsevents.com/profile/ChuckAaron886
END:VEVENT
END:VCALENDAR
