BEGIN:VCALENDAR
PRODID:NingEventWidget-v1
VERSION:2.0
METHOD:PUBLISH
BEGIN:VTIMEZONE
TZID:Pacific/Midway
X-LIC-LOCATION:Pacific/Midway
BEGIN:STANDARD
TZOFFSETFROM:-1100
TZOFFSETTO:-1100
TZNAME:SST
DTSTART:19700101T000000
END:STANDARD
END:VTIMEZONE
BEGIN:VEVENT
UID:5072275:Event:1183978
DTSTAMP:20260423T212920Z
SUMMARY:CANNONS & COOL RIDES RIDES ON THE RIVER
DESCRIPTION: Enjoy a day filled with cool rides, local history, cannon
  and musket firings. Classic car owners are invited to show off their 
 amazing autos and meet fellow automobile enthusiasts.   Register in ad
 vance by calling the park office at 912-727-2339.   Brought to you in 
 cooperation with Richmond Hill Cars & Coffee.  Those bringing an auto 
 will receive free admission for themselves and one other person. Lunch
  will be provided for all volunteers and those bringing vehicles. All 
 other visitors will be required to pay admission to the fort.   Partic
 ipants: Please plan to stay the length of the event so that all of our
  visitors can view the cars. \n\nFor more information visit https://ww
 w.southeastwheelsevents.com/events/cannons-cool-rides-rides-on-the-riv
 er
DTSTART;TZID=Pacific/Midway:20200201T100000
DTEND;TZID=Pacific/Midway:20200201T150000
CATEGORIES:cannons, "&amp", cool, rides, at, the, park
LOCATION:FT MCALLISTER STATE HISTORIC PARK
WEBSITE:
URL:
CONTACT:
ORGANIZER:FT MACALISTER STATE HISTORIC PARK, AND CARS AND COFFEE, RICH
 MOPND HILLS
ATTACH;FMTTYPE="image/jpeg":
ATTENDEE;ROLE=REQ-PARTICIPANT;PARTSTAT=TENTATIVE;RSVP=TRUE;CN="Jeffrey
  Rutherford":https://www.southeastwheelsevents.com/profile/JeffreyRuth
 erford866
END:VEVENT
END:VCALENDAR
