BEGIN:VCALENDAR
PRODID:NingEventWidget-v1
VERSION:2.0
METHOD:PUBLISH
BEGIN:VTIMEZONE
TZID:Pacific/Midway
X-LIC-LOCATION:Pacific/Midway
BEGIN:STANDARD
TZOFFSETFROM:-1100
TZOFFSETTO:-1100
TZNAME:SST
DTSTART:19700101T000000
END:STANDARD
END:VTIMEZONE
BEGIN:VEVENT
UID:5072275:Event:1190574
DTSTAMP:20260421T192434Z
SUMMARY:Cape Fear AACA Antique Auto Show -Wilmington, NC
DESCRIPTION:The NC Region of the AACA is comprised of 14 Local Chapter
 s.  The Cape Fear Chapter was chartered in 1972.  While ownership 
 of an automobile is not a requirement for membership, many of our memb
 ers own antique automobiles.  Several of these local cars are Region
 al and National award winners.\r\nApplication Registration Form\n\nFo
 r more information visit https://www.southeastwheelsevents.com/events/
 cape-fear-aaca-antique-auto-show-wilmington-nc
DTSTART;TZID=Pacific/Midway:20200307T080000
DTEND;TZID=Pacific/Midway:20200307T160000
CATEGORIES:antique, car, show
LOCATION:Mayfair Town Center
WEBSITE:http://capefear.aaca.com/
URL:http://capefear.aaca.com/
CONTACT:910-343-1330 joaks@ec.rr.com
ORGANIZER:Cape Fear Chapter AACA
ATTACH;FMTTYPE="image/jpeg":https://storage.ning.com/topology/rest/1.0
 /file/get/4009315529?profile=original
ATTENDEE;ROLE=REQ-PARTICIPANT;PARTSTAT=ACCEPTED;RSVP=TRUE;CN="Michael 
 Thies":https://www.southeastwheelsevents.com/profile/MichaelThies
END:VEVENT
END:VCALENDAR
