BEGIN:VCALENDAR
PRODID:NingEventWidget-v1
VERSION:2.0
METHOD:PUBLISH
BEGIN:VTIMEZONE
TZID:Pacific/Midway
X-LIC-LOCATION:Pacific/Midway
BEGIN:STANDARD
TZOFFSETFROM:-1100
TZOFFSETTO:-1100
TZNAME:SST
DTSTART:19700101T000000
END:STANDARD
END:VTIMEZONE
BEGIN:VEVENT
UID:5072275:Event:1024977
DTSTAMP:20260424T055544Z
SUMMARY:Cape Fear Corvettes - Membership Meeting
DESCRIPTION:\nCape Fear Corvettes - Membership Meeting will be held at
  Northeast Regional Library, 1241 Military Cutoff Road, Wilmington, No
 rth Carolina, CFC has reserved the Pine room from 5:30 till 7:30 the m
 eeting will start about 6:00 PM. (Enter the main library entrance and 
 head to the back right hand corner)\n\nFor more information visit http
 s://www.southeastwheelsevents.com/events/cape-fear-corvettes-membershi
 p-meeting
DTSTART;TZID=Pacific/Midway:20161213T173000
DTEND;TZID=Pacific/Midway:20161213T190000
CATEGORIES:cars, "clubs/shows/cruises"
LOCATION:Northeast Regional Library
WEBSITE:http://capefearcorvettes.com/events/
URL:http://capefearcorvettes.com/events/
CONTACT:
ORGANIZER:Cape Fear Corvettes
ATTACH;FMTTYPE="image/jpeg":http://storage.ning.com/topology/rest/1.0/
 file/get/967717691?profile=original
ATTENDEE;ROLE=REQ-PARTICIPANT;PARTSTAT=ACCEPTED;RSVP=TRUE;CN="Chris go
 sney":https://www.southeastwheelsevents.com/profile/Chrisgosney
END:VEVENT
END:VCALENDAR
