BEGIN:VCALENDAR
PRODID:NingEventWidget-v1
VERSION:2.0
METHOD:PUBLISH
BEGIN:VTIMEZONE
TZID:Pacific/Midway
X-LIC-LOCATION:Pacific/Midway
BEGIN:STANDARD
TZOFFSETFROM:-1100
TZOFFSETTO:-1100
TZNAME:SST
DTSTART:19700101T000000
END:STANDARD
END:VTIMEZONE
BEGIN:VEVENT
UID:5072275:Event:1078601
DTSTAMP:20260424T014109Z
SUMMARY:Car Nuts and Donuts
DESCRIPTION:Car show third Saturday of every month. March -Sept\nno en
 try fees\n\nFor more information visit https://www.southeastwheelseven
 ts.com/events/car-nuts-amp-donuts
DTSTART;TZID=Pacific/Midway:20180421T083000
DTEND;TZID=Pacific/Midway:20180421T233000
CATEGORIES:car, show
LOCATION:Coner of Sandy Plains and Hwy 92 next to the Dunkin Donuts
WEBSITE:
URL:
CONTACT:404-808-3415
ORGANIZER;CN="Shane OFallon":https://www.southeastwheelsevents.com/pro
 file/ShaneOFallon
ATTACH;FMTTYPE="image/jpeg":
ATTENDEE;ROLE=REQ-PARTICIPANT;PARTSTAT=ACCEPTED;RSVP=TRUE;CN="Shane OF
 allon":https://www.southeastwheelsevents.com/profile/ShaneOFallon
END:VEVENT
END:VCALENDAR
