BEGIN:VCALENDAR
PRODID:NingEventWidget-v1
VERSION:2.0
METHOD:PUBLISH
BEGIN:VTIMEZONE
TZID:Pacific/Midway
X-LIC-LOCATION:Pacific/Midway
BEGIN:STANDARD
TZOFFSETFROM:-1100
TZOFFSETTO:-1100
TZNAME:SST
DTSTART:19700101T000000
END:STANDARD
END:VTIMEZONE
BEGIN:VEVENT
UID:5072275:Event:1078822
DTSTAMP:20260424T053307Z
SUMMARY:Car Nuts and Donuts
DESCRIPTION:Cruise in Third Saturday of every month, March - OCT\n8:30
 -11:00am\nFree Donut to every collectible car driver!\n\nFor more info
 rmation visit https://www.southeastwheelsevents.com/events/car-nuts-an
 d-donuts-5
DTSTART;TZID=Pacific/Midway:20180915T083000
DTEND;TZID=Pacific/Midway:20180922T233000
CATEGORIES:cruise, in
LOCATION:Corner of Sandy Plains and Hwy 92 next to the Dunkin Donuts i
 n front of the movie travern
WEBSITE:
URL:
CONTACT:404-808-3415
ORGANIZER;CN="Shane OFallon":https://www.southeastwheelsevents.com/pro
 file/ShaneOFallon
ATTACH;FMTTYPE="image/jpeg":
ATTENDEE;ROLE=REQ-PARTICIPANT;PARTSTAT=ACCEPTED;RSVP=TRUE;CN="Shane OF
 allon":https://www.southeastwheelsevents.com/profile/ShaneOFallon
END:VEVENT
END:VCALENDAR
