BEGIN:VCALENDAR
PRODID:NingEventWidget-v1
VERSION:2.0
METHOD:PUBLISH
BEGIN:VTIMEZONE
TZID:Pacific/Midway
X-LIC-LOCATION:Pacific/Midway
BEGIN:STANDARD
TZOFFSETFROM:-1100
TZOFFSETTO:-1100
TZNAME:SST
DTSTART:19700101T000000
END:STANDARD
END:VTIMEZONE
BEGIN:VEVENT
UID:5072275:Event:1182388
DTSTAMP:20260425T003343Z
SUMMARY:Car Show and Cruise In - Kissimmee, Fl
DESCRIPTION:Free Entry Giveaways Cash Prizes\n\nFor more information v
 isit https://www.southeastwheelsevents.com/events/car-show-and-cruise-
 in-kissimmee-fl-7
DTSTART;TZID=Pacific/Midway:20200117T160000
DTEND;TZID=Pacific/Midway:20200117T210000
CATEGORIES:car, show, cruise-in
LOCATION:Old Town,
WEBSITE:https://www.google.com/maps?q=5770+W.+Irlo+Bronson+Memorial+Hw
 y.,+Kissimmee,+FL+34746&amp;amp;amp;amp;amp;um=1&amp;amp;amp;amp;amp;i
 e=UTF-8&amp;amp;amp;amp;amp;sa=X&amp;amp;amp;amp;amp;ved=2ahUKEwibu6S-
 qojmAhXP4XMBHcwjAU0Q_AUoAXoECA4QAw
URL:https://www.google.com/maps?q=5770+W.+Irlo+Bronson+Memorial+Hwy.,+
 Kissimmee,+FL+34746&amp;amp;amp;amp;amp;um=1&amp;amp;amp;amp;amp;ie=UT
 F-8&amp;amp;amp;amp;amp;sa=X&amp;amp;amp;amp;amp;ved=2ahUKEwibu6S-qojm
 AhXP4XMBHcwjAU0Q_AUoAXoECA4QAw
CONTACT:(407) 396-4888
ORGANIZER:
ATTACH;FMTTYPE="image/jpeg":https://storage.ning.com/topology/rest/1.0
 /file/get/3741137146?profile=original
ATTENDEE;ROLE=REQ-PARTICIPANT;PARTSTAT=ACCEPTED;RSVP=TRUE;CN="Anthony 
 Hopkins":https://www.southeastwheelsevents.com/profile/AnthonyHopkins
END:VEVENT
END:VCALENDAR
