BEGIN:VCALENDAR
PRODID:NingEventWidget-v1
VERSION:2.0
METHOD:PUBLISH
BEGIN:VTIMEZONE
TZID:Pacific/Midway
X-LIC-LOCATION:Pacific/Midway
BEGIN:STANDARD
TZOFFSETFROM:-1100
TZOFFSETTO:-1100
TZNAME:SST
DTSTART:19700101T000000
END:STANDARD
END:VTIMEZONE
BEGIN:VEVENT
UID:5072275:Event:1181681
DTSTAMP:20260421T061626Z
SUMMARY:Car Show and Swap Meet - Bushnell, Fl
DESCRIPTION:Door prizes, trivia questions, and food vendors.  Plus $1
 00 car show cash prize.\nRegistration Fee: $5\n\nFor more information 
 visit https://www.southeastwheelsevents.com/events/car-show-and-swap-m
 eet-bushnell-fl-13
DTSTART;TZID=Pacific/Midway:20200607T080000
DTEND;TZID=Pacific/Midway:20200607T150000
CATEGORIES:car, show, cruise-in
LOCATION:Sumter County Fairgrounds,
WEBSITE:http://www.floridaswapmeets.com/
URL:http://www.floridaswapmeets.com/
CONTACT:(727) 848-7171; craigpearson_6@msn.com
ORGANIZER:Joann; Craig Pearson
ATTACH;FMTTYPE="image/jpeg":https://storage.ning.com/topology/rest/1.0
 /file/get/3708281832?profile=original
ATTENDEE;ROLE=REQ-PARTICIPANT;PARTSTAT=ACCEPTED;RSVP=TRUE;CN="Anthony 
 Hopkins":https://www.southeastwheelsevents.com/profile/AnthonyHopkins
END:VEVENT
END:VCALENDAR
