BEGIN:VCALENDAR
PRODID:NingEventWidget-v1
VERSION:2.0
METHOD:PUBLISH
BEGIN:VTIMEZONE
TZID:Pacific/Midway
X-LIC-LOCATION:Pacific/Midway
BEGIN:STANDARD
TZOFFSETFROM:-1100
TZOFFSETTO:-1100
TZNAME:SST
DTSTART:19700101T000000
END:STANDARD
END:VTIMEZONE
BEGIN:VEVENT
UID:5072275:Event:1080414
DTSTAMP:20260423T034034Z
SUMMARY:Car Show at 2018 Celebrate Hoover Day -Hoover, AL
DESCRIPTION:\n\nFor more information visit https://www.southeastwheels
 events.com/events/car-show-at-2018-celebrate-hoover-day
DTSTART;TZID=Pacific/Midway:20180428T110000
DTEND;TZID=Pacific/Midway:20180428T150000
CATEGORIES:car, show, at, 2018, celebrate, hoover, day
LOCATION:Veterans Park on Valleydale
WEBSITE:http://www.hooveralabama.gov/Calendar.aspx?EID=5894&amp;amp;mo
 nth=4&amp;amp;year=2018&amp;amp;day=28&amp;amp;calType=0
URL:http://www.hooveralabama.gov/Calendar.aspx?EID=5894&amp;amp;month=
 4&amp;amp;year=2018&amp;amp;day=28&amp;amp;calType=0
CONTACT:(205) 444-7500
ORGANIZER;CN="Brittany Toole":https://www.southeastwheelsevents.com/pr
 ofile/BrittanyToole
ATTACH;FMTTYPE="image/jpeg":http://storage.ning.com/topology/rest/1.0/
 file/get/967762578?profile=original
ATTENDEE;ROLE=REQ-PARTICIPANT;PARTSTAT=ACCEPTED;RSVP=TRUE;CN="Brittany
  Toole":https://www.southeastwheelsevents.com/profile/BrittanyToole
END:VEVENT
END:VCALENDAR
