BEGIN:VCALENDAR
PRODID:NingEventWidget-v1
VERSION:2.0
METHOD:PUBLISH
BEGIN:VTIMEZONE
TZID:Pacific/Midway
X-LIC-LOCATION:Pacific/Midway
BEGIN:STANDARD
TZOFFSETFROM:-1100
TZOFFSETTO:-1100
TZNAME:SST
DTSTART:19700101T000000
END:STANDARD
END:VTIMEZONE
BEGIN:VEVENT
UID:5072275:Event:1040890
DTSTAMP:20260422T135915Z
SUMMARY:Car Show (First Points Race)
DESCRIPTION:Car Show (noon - 3pm) Late Model, Limited Sportsman, Super
  Stock Four Cylinder, Pure Stock V-8, and Pure Stock Four Cylinder\n\n
 For more information visit https://www.southeastwheelsevents.com/event
 s/car-show-first-points-race
DTSTART;TZID=Pacific/Midway:20170401T000000
DTEND;TZID=Pacific/Midway:20170401T235900
CATEGORIES:race
LOCATION:County Line Raceway
WEBSITE:http://countylineracewaync.com/
URL:http://countylineracewaync.com/
CONTACT:1-252-985-1949
ORGANIZER:
ATTACH;FMTTYPE="image/jpeg":http://storage.ning.com/topology/rest/1.0/
 file/get/967742241?profile=original
ATTENDEE;ROLE=REQ-PARTICIPANT;PARTSTAT=ACCEPTED;RSVP=TRUE;CN="Christop
 her Gosney":https://www.southeastwheelsevents.com/profile/ChristopherG
 osney
END:VEVENT
END:VCALENDAR
