BEGIN:VCALENDAR
PRODID:NingEventWidget-v1
VERSION:2.0
METHOD:PUBLISH
BEGIN:VTIMEZONE
TZID:Pacific/Midway
X-LIC-LOCATION:Pacific/Midway
BEGIN:STANDARD
TZOFFSETFROM:-1100
TZOFFSETTO:-1100
TZNAME:SST
DTSTART:19700101T000000
END:STANDARD
END:VTIMEZONE
BEGIN:VEVENT
UID:5072275:Event:728643
DTSTAMP:20260419T013158Z
SUMMARY:Car Show in the Country -Danielsville, GA
DESCRIPTION:Drawing for a GM350 crate engine\nAwards: Top 40\nDoor Pri
 zes and Raffle Table\nMusic by Digger the DJ\nChub's BBQ, Fresh Squeez
 ed Lemonade, Hot Boiled Peanuts, Hot Dogs\n \n\nFor more information 
 visit https://www.southeastwheelsevents.com/events/car-show-in-the-cou
 ntry-danielsville-ga-1
DTSTART;TZID=Pacific/Midway:20141011T080000
DTEND;TZID=Pacific/Midway:20141011T160000
CATEGORIES:ca-show, relay, for, life, american, cancer, society
LOCATION:224 Charles Bruce Road Danielsville, Ga. 30633
WEBSITE:
URL:
CONTACT:706 795 2950   day of show  706 207 9629
ORGANIZER;CN="Wade Scarboro":https://www.southeastwheelsevents.com/pro
 file/WadeScarboro
ATTACH;FMTTYPE="image/jpeg":http://storage.ning.com/topology/rest/1.0/
 file/get/967653457?profile=original
ATTENDEE;ROLE=REQ-PARTICIPANT;PARTSTAT=ACCEPTED;RSVP=TRUE;CN="Wade Sca
 rboro":https://www.southeastwheelsevents.com/profile/WadeScarboro
END:VEVENT
END:VCALENDAR
