BEGIN:VCALENDAR
PRODID:NingEventWidget-v1
VERSION:2.0
METHOD:PUBLISH
BEGIN:VTIMEZONE
TZID:Pacific/Midway
X-LIC-LOCATION:Pacific/Midway
BEGIN:STANDARD
TZOFFSETFROM:-1100
TZOFFSETTO:-1100
TZNAME:SST
DTSTART:19700101T000000
END:STANDARD
END:VTIMEZONE
BEGIN:VEVENT
UID:5072275:Event:1181624
DTSTAMP:20260424T002404Z
SUMMARY:Car Show - Jasper, Ak
DESCRIPTION:The Mustang Club of America has awarded the Midwest Blue O
 val Club a National Event for 2020. MCA Nationals Eureka Springs Musta
 ng Week will be May 27th-May - 31st 2020. We will have a genuine MCA N
 ational Judged Show, Road Rallys, Cruise Nights, Rare Fords, Lincolns 
 and Mercurys from everywhere throughout the United States and substant
 ially more. \n\nFor more information visit https://www.southeastwheel
 sevents.com/events/car-show-jasper-ak-2
DTSTART;TZID=Pacific/Midway:20200529T170000
DTEND;TZID=Pacific/Midway:20200529T210000
CATEGORIES:car, show, cruise-in
LOCATION:Midwest Blue Oval Club,
WEBSITE:https://www.midwestblueoval.club/
URL:https://www.midwestblueoval.club/
CONTACT:
ORGANIZER:
ATTACH;FMTTYPE="image/jpeg":https://storage.ning.com/topology/rest/1.0
 /file/get/3741201106?profile=original
ATTENDEE;ROLE=REQ-PARTICIPANT;PARTSTAT=ACCEPTED;RSVP=TRUE;CN="Anthony 
 Hopkins":https://www.southeastwheelsevents.com/profile/AnthonyHopkins
END:VEVENT
END:VCALENDAR
