BEGIN:VCALENDAR
PRODID:NingEventWidget-v1
VERSION:2.0
METHOD:PUBLISH
BEGIN:VTIMEZONE
TZID:Pacific/Midway
X-LIC-LOCATION:Pacific/Midway
BEGIN:STANDARD
TZOFFSETFROM:-1100
TZOFFSETTO:-1100
TZNAME:SST
DTSTART:19700101T000000
END:STANDARD
END:VTIMEZONE
BEGIN:VEVENT
UID:5072275:Event:1182066
DTSTAMP:20260420T123151Z
SUMMARY:Car Show Monthly - Belleview, Fl
DESCRIPTION:Organised each month on the fourth Saturday excluding Jul
 y, Aug, Nov, Dec. \nTrophies, food, DJ music and value cover racing.\
 nAll vehicle makes and years welcome.   \nRegistration Fee: $5\n\nF
 or more information visit https://www.southeastwheelsevents.com/events
 /car-show-monthly-belleview-fl-5
DTSTART;TZID=Pacific/Midway:20200523T090000
DTEND;TZID=Pacific/Midway:20200523T130000
CATEGORIES:car, show, truck, motorcycle, cruise-in
LOCATION:Market of Marion,
WEBSITE:https://www.google.com/maps?q=12888+US-441,+Belleview,+FL+3442
 0&amp;amp;amp;amp;amp;amp;amp;um=1&amp;amp;amp;amp;amp;amp;amp;ie=UTF-
 8&amp;amp;amp;amp;amp;amp;amp;sa=X&amp;amp;amp;amp;amp;amp;amp;ved=2ah
 UKEwiK2uX8yJfmAhUiheYKHYK_DegQ_AUoAXoECAwQAw
URL:https://www.google.com/maps?q=12888+US-441,+Belleview,+FL+34420&am
 p;amp;amp;amp;amp;amp;amp;um=1&amp;amp;amp;amp;amp;amp;amp;ie=UTF-8&am
 p;amp;amp;amp;amp;amp;amp;sa=X&amp;amp;amp;amp;amp;amp;amp;ved=2ahUKEw
 iK2uX8yJfmAhUiheYKHYK_DegQ_AUoAXoECAwQAw
CONTACT:mvolosyn@gmail.com
ORGANIZER:
ATTACH;FMTTYPE="image/jpeg":https://storage.ning.com/topology/rest/1.0
 /file/get/3700549066?profile=original
ATTENDEE;ROLE=REQ-PARTICIPANT;PARTSTAT=ACCEPTED;RSVP=TRUE;CN="Anthony 
 Hopkins":https://www.southeastwheelsevents.com/profile/AnthonyHopkins
END:VEVENT
END:VCALENDAR
