BEGIN:VCALENDAR
PRODID:NingEventWidget-v1
VERSION:2.0
METHOD:PUBLISH
BEGIN:VTIMEZONE
TZID:Pacific/Midway
X-LIC-LOCATION:Pacific/Midway
BEGIN:STANDARD
TZOFFSETFROM:-1100
TZOFFSETTO:-1100
TZNAME:SST
DTSTART:19700101T000000
END:STANDARD
END:VTIMEZONE
BEGIN:VEVENT
UID:5072275:Event:1186577
DTSTAMP:20260423T041621Z
SUMMARY:CAR SHOW & PUBLIC SAFETY EXPO
DESCRIPTION:\r\nThe Georgia Law Enforcement Organization (501c3 nonpro
 fit) is hosting our first car show and public safety event on May 16th
 .\r\nWe’d love to see as many of you there as we can, and 100% of th
 e proceeds go to support sick, injured, and fallen officers and their 
 families in times of need.\r\n\n\nFor more information visit https://w
 ww.southeastwheelsevents.com/events/car-show-public-safety-expo
DTSTART;TZID=Pacific/Midway:20200516T100000
DTEND;TZID=Pacific/Midway:20200516T150000
CATEGORIES:car, show, "&amp", safety, expo
LOCATION:PONTOON BREWING CO
WEBSITE:
URL:
CONTACT:
ORGANIZER:
ATTACH;FMTTYPE="image/jpeg":https://storage.ning.com/topology/rest/1.0
 /file/get/3836622945?profile=original
ATTENDEE;ROLE=REQ-PARTICIPANT;PARTSTAT=TENTATIVE;RSVP=TRUE;CN="Jeffrey
  Rutherford":https://www.southeastwheelsevents.com/profile/JeffreyRuth
 erford866
END:VEVENT
END:VCALENDAR
