BEGIN:VCALENDAR
PRODID:NingEventWidget-v1
VERSION:2.0
METHOD:PUBLISH
BEGIN:VTIMEZONE
TZID:Pacific/Midway
X-LIC-LOCATION:Pacific/Midway
BEGIN:STANDARD
TZOFFSETFROM:-1100
TZOFFSETTO:-1100
TZNAME:SST
DTSTART:19700101T000000
END:STANDARD
END:VTIMEZONE
BEGIN:VEVENT
UID:5072275:Event:1181025
DTSTAMP:20260423T142834Z
SUMMARY:Bronco Super Celebration - Townsend, TN
DESCRIPTION:Show and Shine, Raffle prizes and Bronco Olympics. Daily 
 rides around the Smokey Mountains. \r\n\n\nFor more information visit
  https://www.southeastwheelsevents.com/events/car-show-townsend-tn
DTSTART;TZID=Pacific/Midway:20220420T000000
DTEND;TZID=Pacific/Midway:20220423T235900
CATEGORIES:car, show, cruise-in
LOCATION:Talley Ho Inn
WEBSITE:https://www.broncodriver.com/
URL:https://www.broncodriver.com/
CONTACT:(865)690-4941
ORGANIZER:Bronco Driver Magazine
ATTACH;FMTTYPE="image/jpeg":https://storage.ning.com/topology/rest/1.0
 /file/get/8807420701?profile=original
ATTENDEE;ROLE=REQ-PARTICIPANT;PARTSTAT=ACCEPTED;RSVP=TRUE;CN="Anthony 
 Hopkins":https://www.southeastwheelsevents.com/profile/AnthonyHopkins
END:VEVENT
END:VCALENDAR
