BEGIN:VCALENDAR
PRODID:NingEventWidget-v1
VERSION:2.0
METHOD:PUBLISH
BEGIN:VTIMEZONE
TZID:Pacific/Midway
X-LIC-LOCATION:Pacific/Midway
BEGIN:STANDARD
TZOFFSETFROM:-1100
TZOFFSETTO:-1100
TZNAME:SST
DTSTART:19700101T000000
END:STANDARD
END:VTIMEZONE
BEGIN:VEVENT
UID:5072275:Event:965220
DTSTAMP:20260424T073201Z
SUMMARY:Car Show / Truck Pull -Cartersville, GA
DESCRIPTION:\nCar Show / Truck Pull to benefit the Terry Farrell Fund\
 nhttp://terryfund.org/georgia/\nThis fund provides equipment and help 
 to local emergency responders.\n \n \n\nFor more information visit h
 ttps://www.southeastwheelsevents.com/events/car-show-truck-pull
DTSTART;TZID=Pacific/Midway:20160402T090000
DTEND;TZID=Pacific/Midway:20160402T140000
CATEGORIES:car, show, "/", truck, pull
LOCATION:Clarence Brown Conference Center
WEBSITE:http://terryfund.org/georgia/
URL:http://terryfund.org/georgia/
CONTACT:404 446-8019
ORGANIZER;CN="Ray King":https://www.southeastwheelsevents.com/profile/
 RayKing876
ATTACH;FMTTYPE="image/jpeg":http://storage.ning.com/topology/rest/1.0/
 file/get/967701177?profile=original
ATTENDEE;ROLE=REQ-PARTICIPANT;PARTSTAT=ACCEPTED;RSVP=TRUE;CN="Ray King
 ":https://www.southeastwheelsevents.com/profile/RayKing876
END:VEVENT
END:VCALENDAR
